BEGIN:VCALENDAR
VERSION:2.0
PRODID:-//Parroquia Nuestra Señora del Rosario - ECPv6.15.20//NONSGML v1.0//EN
CALSCALE:GREGORIAN
METHOD:PUBLISH
X-WR-CALNAME:Parroquia Nuestra Señora del Rosario
X-ORIGINAL-URL:https://parroquiatorrepacheco.es
X-WR-CALDESC:Eventos para Parroquia Nuestra Señora del Rosario
REFRESH-INTERVAL;VALUE=DURATION:PT1H
X-Robots-Tag:noindex
X-PUBLISHED-TTL:PT1H
BEGIN:VTIMEZONE
TZID:UTC
BEGIN:STANDARD
TZOFFSETFROM:+0000
TZOFFSETTO:+0000
TZNAME:UTC
DTSTART:20220101T000000
END:STANDARD
END:VTIMEZONE
BEGIN:VEVENT
DTSTART;TZID=UTC:20231102T210000
DTEND;TZID=UTC:20240210T170000
DTSTAMP:20260426T042211
CREATED:20231019T114232Z
LAST-MODIFIED:20231019T114725Z
UID:4432-1698958800-1707584400@parroquiatorrepacheco.es
SUMMARY:Confirmación de adultos
DESCRIPTION:El Jueves 2 de noviembre\, a las 21h\, comenzamos las catequesis de adultos para recibir el Sacramento de la Confirmación\n¡¡TE ESPERAMOS!!\n 
URL:https://parroquiatorrepacheco.es/eventos/confirmacion-de-adultos/
LOCATION:Parroquia Ntra. del Rosario\, Plaza de la Iglesia\, s/n\, Torre Pacheco\, 30700\, España
CATEGORIES:Destacados,Eventos
ATTACH;FMTTYPE=image/jpeg:https://parroquiatorrepacheco.es/wp-content/uploads/2023/10/Confirmacion-de-adultos.jpg
ORGANIZER;CN="Parroquia Ntra. Sra. del Rosario":MAILTO:grace@ancorathemes.com
END:VEVENT
BEGIN:VEVENT
DTSTART;TZID=UTC:20240202T190000
DTEND;TZID=UTC:20240204T190000
DTSTAMP:20260426T042211
CREATED:20231012T174717Z
LAST-MODIFIED:20231019T150908Z
UID:4343-1706900400-1707073200@parroquiatorrepacheco.es
SUMMARY:Encuentro Cuatro40
DESCRIPTION:Por primera vez en la Diócesis de Cartagena se va realizar un Encuentro Cuatro40. Una experiencia de encuentro con el Señor que Acción Católica General pone en marcha con el objetivo de seguir ofreciendo a nuestras parroquias oportunidades para la transformación y para ayudarlas a ser parroquias misioneras donde el centro de su actividad sea en Encuentro con el Señor. \n  \n \n  \nEste ENCUENTRO está pensado para ti que necesitas revitalizar tu fe\, que necesitas una experiencia que vuelva a avivar en ti el fuego del Espíritu Santo\, que andas un poco perdido y buscas sentido a la vida. Para ti que\, simplemente lo has leído o escuchado\, y algo en ti se ha movido. ¡Haz caso a eso que has sentido y seguro que no te arrepentirás! \n  \nDel viernes 2 de febrero al domingo 4 de febrero\, de 2024\n  \n \n  \nPrecio por participante: 150€\n  \nAl ser el primer Encuentro Cuatro40 que hacemos en Torre Pacheco las plazas son limitadas (30plazas) por ello\, no te lo pienses mucho y reserva la tuya y espera confirmación. Para hacerlo es necesario: \n\nRellenar el formulario que encontrarás más abajo.\nPuedes hacer el pago total o reservar plaza.\nReservar de plaza: Hacer el pago de 50€\, antes del 30 noviembre\, y entregar el justificante en el despacho o enviarlo por email: prosariotorrepacheco@diocesisdecartagena.org\nEl segundo pago debes de realizarlo antes del 31 de diciembre\, y entregar el justificante en el despacho o enviarlo por email.\n\nNº de cuenta: ES7830580228232720006003            BIZUM: 07390 \nCONCEPTO DEL INGRESO: Cuatro40 + nombre \n  \nPor favor\, activa JavaScript en tu navegador para completar este formulario.Nombre *NombreApellidosDiseñoTeléfonoEmail *Participas en alguna actividad parroquial *SINOEdad *Parroquia a la que pertenecesSi participas ¿en qué?DiseñoPersona de contacto *TeléfonoObservacionesEnviar  \n  \n 
URL:https://parroquiatorrepacheco.es/eventos/encuentro-cuatro40/
LOCATION:Casa Franciscanas de la Purísima\, Avenida Salzillo\, 62\, Lo Pagán\, Murcia\, 30740\, España
CATEGORIES:Destacados,Eventos
ATTACH;FMTTYPE=image/jpeg:https://parroquiatorrepacheco.es/wp-content/uploads/2023/10/Cuatro40.jpg
END:VEVENT
BEGIN:VEVENT
DTSTART;TZID=UTC:20240202T190000
DTEND;TZID=UTC:20240204T190000
DTSTAMP:20260426T042211
CREATED:20240128T092932Z
LAST-MODIFIED:20240201T083607Z
UID:4525-1706900400-1707073200@parroquiatorrepacheco.es
SUMMARY:Oración por el Cuatro40
DESCRIPTION:¡¡COMENZAMOS ALGO NUEVO!!\nPor primera vez en la Diócesis de Cartagena\, y más concretamente en nuestra parroquia de Torre Pacheco\, se va realizar un Encuentro Cuatro40. Una experiencia de encuentro con el Señor que Acción Católica General pone en marcha con el objetivo de seguir ofreciendo a nuestras parroquias oportunidades para la transformación y para ayudarlas a ser parroquias misioneras donde el centro de su actividad sea en Encuentro con el Señor. \n  \n \n  \nUna de las claves para el Encuentro personal con Cristo es la ORACIÓN. Oración de aquellos que quieren vivir este encuentro pero\, también\, oración de intercesión de otros por ellos\, para que el Espíritu Santo les inunde y transforme. Es por ello\, que como miembro de la parroquia se te pide que reces por todos estos hermanos que van a vivir esta experiencia. \n  \n \n  \n  \nDel viernes 2 de febrero al domingo 4 de febrero\, de 2024\n \n  \n \n 
URL:https://parroquiatorrepacheco.es/eventos/oracion-por-el-cuatro40/
LOCATION:Casa Franciscanas de la Purísima\, Avenida Salzillo\, 62\, Lo Pagán\, Murcia\, 30740\, España
CATEGORIES:Destacados,Eventos
ATTACH;FMTTYPE=image/jpeg:https://parroquiatorrepacheco.es/wp-content/uploads/2023/10/Cuatro40.jpg
ORGANIZER;CN="Parroquia Ntra. Sra. del Rosario":MAILTO:grace@ancorathemes.com
END:VEVENT
END:VCALENDAR