BEGIN:VCALENDAR
VERSION:2.0
PRODID:-//Parroquia Nuestra Señora del Rosario - ECPv6.15.20//NONSGML v1.0//EN
CALSCALE:GREGORIAN
METHOD:PUBLISH
X-WR-CALNAME:Parroquia Nuestra Señora del Rosario
X-ORIGINAL-URL:https://parroquiatorrepacheco.es
X-WR-CALDESC:Eventos para Parroquia Nuestra Señora del Rosario
REFRESH-INTERVAL;VALUE=DURATION:PT1H
X-Robots-Tag:noindex
X-PUBLISHED-TTL:PT1H
BEGIN:VTIMEZONE
TZID:UTC
BEGIN:STANDARD
TZOFFSETFROM:+0000
TZOFFSETTO:+0000
TZNAME:UTC
DTSTART:20230101T000000
END:STANDARD
END:VTIMEZONE
BEGIN:VEVENT
DTSTART;TZID=UTC:20240418T173000
DTEND;TZID=UTC:20240418T183000
DTSTAMP:20260426T005734
CREATED:20230910T170954Z
LAST-MODIFIED:20230910T170954Z
UID:4175-1713461400-1713465000@parroquiatorrepacheco.es
SUMMARY:Catequesis Infantil. Primer Curso
DESCRIPTION:
URL:https://parroquiatorrepacheco.es/eventos/catequesis-infantil-primer-curso-25/
LOCATION:Salones parroquiales
CATEGORIES:Eventos
ORGANIZER;CN="Parroquia Ntra. Sra. del Rosario":MAILTO:grace@ancorathemes.com
END:VEVENT
END:VCALENDAR