BEGIN:VCALENDAR
VERSION:2.0
PRODID:-//Parroquia Nuestra Señora del Rosario - ECPv6.15.20//NONSGML v1.0//EN
CALSCALE:GREGORIAN
METHOD:PUBLISH
X-ORIGINAL-URL:https://parroquiatorrepacheco.es
X-WR-CALDESC:Eventos para Parroquia Nuestra Señora del Rosario
REFRESH-INTERVAL;VALUE=DURATION:PT1H
X-Robots-Tag:noindex
X-PUBLISHED-TTL:PT1H
BEGIN:VTIMEZONE
TZID:UTC
BEGIN:STANDARD
TZOFFSETFROM:+0000
TZOFFSETTO:+0000
TZNAME:UTC
DTSTART:20230101T000000
END:STANDARD
END:VTIMEZONE
BEGIN:VEVENT
DTSTART;TZID=UTC:20240518T220000
DTEND;TZID=UTC:20240518T230000
DTSTAMP:20260425T231219
CREATED:20230518T105427Z
LAST-MODIFIED:20240511T142259Z
UID:4087-1716069600-1716073200@parroquiatorrepacheco.es
SUMMARY:Vigilia de Pentecostés 2024
DESCRIPTION:“Laicos por vocación\, llamados a la misión”\nLa Iglesia celebra el día de Pentecostés\, este año el 19 de mayo\, el Día de la Acción Católica y Apostolado Seglar. «Laicos por vocación\, llamados a la misión» es el lema que la Comisión Episcopal para los Laicos\, Familia y Vida propone para la Jornada de este año. \nEn nuestra parroquia\, viviremos esta jornada #caminandojuntos. Por ello\, hemos preparado una \nVIGILIA DE PENTECOSTÉS\nSerá el próximo sábado 18 de mayo\, a las 10 de la noche\nNuestros obispos nos invitan\, a todos los bautizados\, en su mensaje de Pentecostés a: “tomar conciencia de la importancia del anuncio explícito de Jesucristo\, con palabras y con obras”. Y eso es\, precisamente\, lo que queremos hacer\, rezar juntos y pedir que el Espíritu Santo nos siga animando en la vivencia y el anuncio del Evangelio. \n  \n\nMensaje de los obispo por el día de Pentecostés\, Día de la Acción Católica y el Apostolado Seglar.
URL:https://parroquiatorrepacheco.es/eventos/vigilia-de-pentecostes/
LOCATION:Parroquia Ntra. del Rosario\, Plaza de la Iglesia\, s/n\, Torre Pacheco\, 30700\, España
CATEGORIES:Destacados,Eventos
ATTACH;FMTTYPE=image/jpeg:https://parroquiatorrepacheco.es/wp-content/uploads/2023/05/Vigilia-de-pentecostes-2024.jpg
ORGANIZER;CN="Parroquia Ntra. Sra. del Rosario":MAILTO:grace@ancorathemes.com
END:VEVENT
END:VCALENDAR