BEGIN:VCALENDAR
VERSION:2.0
PRODID:-//Parroquia Nuestra Señora del Rosario - ECPv6.15.20//NONSGML v1.0//EN
CALSCALE:GREGORIAN
METHOD:PUBLISH
X-WR-CALNAME:Parroquia Nuestra Señora del Rosario
X-ORIGINAL-URL:https://parroquiatorrepacheco.es
X-WR-CALDESC:Eventos para Parroquia Nuestra Señora del Rosario
REFRESH-INTERVAL;VALUE=DURATION:PT1H
X-Robots-Tag:noindex
X-PUBLISHED-TTL:PT1H
BEGIN:VTIMEZONE
TZID:UTC
BEGIN:STANDARD
TZOFFSETFROM:+0000
TZOFFSETTO:+0000
TZNAME:UTC
DTSTART:20230101T000000
END:STANDARD
END:VTIMEZONE
BEGIN:VEVENT
DTSTART;TZID=UTC:20240910T080000
DTEND;TZID=UTC:20240912T170000
DTSTAMP:20260425T165433
CREATED:20240905T062058Z
LAST-MODIFIED:20240910T155215Z
UID:4735-1725955200-1726160400@parroquiatorrepacheco.es
SUMMARY:Convocatoria Catequesis de Infancia
DESCRIPTION:Acompañar a nuestros niños en su camino de fe es algo necesario y apasionante. Una tarea que recae en toda la comunidad. Los padres\, principales educadores y transmisores de la fe\, pueden contar con toda nuestra ayuda\, para que juntos\, como familia\, puedan sentir y experimentar que el Señor camina junto a ellos. \n¡¡Comenzamos!!\n\nSEMANA DE INSCRIPCIÓN\nDe martes a jueves\, de 5\,30 a 7 de la tarde\, todos los padres pueden pasar por los salones parroquiales para recibir toda la información al respecto. También pueden descargar la ficha aquí: \n  \nDescargar ficha\n  \nDocumentos necesarios: \n\nFicha de inscripción firmada por padre y madre (no se admitirán fichas firmadas por un solo cónyuge)\nFicha de protección de datos\, firmada por padre y madre (no se admitirán fichas firmadas por un solo cónyuge)\nFotocopias de los DNI de ambos.\nSi el niño o la niña no está bautizado en nuestra parroquia han de presentar una nota de bautismo solicitada en la parroquia en la que estén bautizados.\n\n\n  \nDÍA DE INICIO DE LA CATEQUESIS\nEl martes 17\, a las 5 de la tarde\, esperamos a todos los niños para tener un inicio muy especial. El resto de catequesis\, todos los martes\, serán a las 5\,30 de la tarde. \n  \nREUNIÓN DE PADRES\nEl mismo martes 17\, a las 9 de la noche\, tendremos una reunión con todas las familias. Allí nos conoceremos e informaremos de todo lo relativo a la catequesis de sus hijos.
URL:https://parroquiatorrepacheco.es/eventos/convocatoria-catequesis-de-infancia/
LOCATION:Parroquia Ntra. del Rosario\, Plaza de la Iglesia\, s/n\, Torre Pacheco\, 30700\, España
CATEGORIES:Destacados,Eventos
ATTACH;FMTTYPE=image/jpeg:https://parroquiatorrepacheco.es/wp-content/uploads/2024/09/240905-Convocatoria-infancia.jpg
ORGANIZER;CN="Parroquia Ntra. Sra. del Rosario":MAILTO:grace@ancorathemes.com
END:VEVENT
END:VCALENDAR