BEGIN:VCALENDAR
VERSION:2.0
PRODID:-//Parroquia Nuestra Señora del Rosario - ECPv6.15.20//NONSGML v1.0//EN
CALSCALE:GREGORIAN
METHOD:PUBLISH
X-WR-CALNAME:Parroquia Nuestra Señora del Rosario
X-ORIGINAL-URL:https://parroquiatorrepacheco.es
X-WR-CALDESC:Eventos para Parroquia Nuestra Señora del Rosario
REFRESH-INTERVAL;VALUE=DURATION:PT1H
X-Robots-Tag:noindex
X-PUBLISHED-TTL:PT1H
BEGIN:VTIMEZONE
TZID:UTC
BEGIN:STANDARD
TZOFFSETFROM:+0000
TZOFFSETTO:+0000
TZNAME:UTC
DTSTART:20230101T000000
END:STANDARD
END:VTIMEZONE
BEGIN:VEVENT
DTSTART;TZID=UTC:20240920T210000
DTEND;TZID=UTC:20240920T210000
DTSTAMP:20260425T165342
CREATED:20240907T075709Z
LAST-MODIFIED:20240907T075709Z
UID:4753-1726866000-1726866000@parroquiatorrepacheco.es
SUMMARY:Convocatoria para grupos de Jóvenes
DESCRIPTION:SOY JOVEN SOY CRISTIANO\n  \nVivimos en una sociedad donde cada vez hay más gente que nos dice cómo tenemos que ser\, qué tenemos que hacer\, qué pensar\, cómo actuar\, incluso… si creer o no creer. Muchas personas\, jóvenes y no tan jóvenes\, se alejan de Dios por lo que otros piensan. ¡Pues no! Yo soy joven y soy cristiano. \nDesde la parroquia lanzamos lanzamos la convocatoria para formar grupos de jóvenes cristianos\, donde poder compartir la fe con otros y descubrir\, por uno mismo\, lo grande que es seguir a Cristo. \n  \n¡NO TE QUEDES FUERA!\n  \nSi cursas 3º de la ESO o más\, está es tu oportunidad. Pásate por la parroquia y te informaremos.
URL:https://parroquiatorrepacheco.es/eventos/convocatoria-para-grupos-de-jovenes/
LOCATION:Salón Parroquial\, Plaza Párroco D. Pedro\, Torre Pacheco\, Murcia\, 30700\, España
CATEGORIES:Destacados,Eventos
ATTACH;FMTTYPE=image/jpeg:https://parroquiatorrepacheco.es/wp-content/uploads/2024/09/240907-Convocatoria-Confirmacion.jpg
ORGANIZER;CN="Parroquia Ntra. Sra. del Rosario":MAILTO:grace@ancorathemes.com
END:VEVENT
END:VCALENDAR