BEGIN:VCALENDAR
VERSION:2.0
PRODID:-//Parroquia Nuestra Señora del Rosario - ECPv6.15.20//NONSGML v1.0//EN
CALSCALE:GREGORIAN
METHOD:PUBLISH
X-ORIGINAL-URL:https://parroquiatorrepacheco.es
X-WR-CALDESC:Eventos para Parroquia Nuestra Señora del Rosario
REFRESH-INTERVAL;VALUE=DURATION:PT1H
X-Robots-Tag:noindex
X-PUBLISHED-TTL:PT1H
BEGIN:VTIMEZONE
TZID:UTC
BEGIN:STANDARD
TZOFFSETFROM:+0000
TZOFFSETTO:+0000
TZNAME:UTC
DTSTART:20230101T000000
END:STANDARD
END:VTIMEZONE
BEGIN:VEVENT
DTSTART;TZID=UTC:20241010T173000
DTEND;TZID=UTC:20241010T173000
DTSTAMP:20260425T153011
CREATED:20241008T093949Z
LAST-MODIFIED:20241009T105759Z
UID:4899-1728581400-1728581400@parroquiatorrepacheco.es
SUMMARY:Ofrenda Infantil a la Virgen del Rosario
DESCRIPTION:Este jueves\, todos los niños y niñas tienen una cita muy especial: la Ofrenda Infantil a nuestra patrona. \nEs importante fomentar esta bella tradición en los más pequeños\, para crezca en ellos al amor a nuestra Madre\, la Virgen del Rosario. \nInvitamos a todos a que puedan acudir con una flor\, o bien natural o bien hecha a mano por ellos mismos. \n  \nOs esperamos a todos.
URL:https://parroquiatorrepacheco.es/eventos/ofrenda-infantil-a-la-virgen-del-rosario-2/
LOCATION:Parroquia Ntra. del Rosario\, Plaza de la Iglesia\, s/n\, Torre Pacheco\, 30700\, España
CATEGORIES:Destacados,Eventos
ATTACH;FMTTYPE=image/png:https://parroquiatorrepacheco.es/wp-content/uploads/2024/10/ofrenda-infantil.png
ORGANIZER;CN="Parroquia Ntra. Sra. del Rosario":MAILTO:grace@ancorathemes.com
END:VEVENT
END:VCALENDAR