BEGIN:VCALENDAR
VERSION:2.0
PRODID:-//Parroquia Nuestra Señora del Rosario - ECPv6.15.20//NONSGML v1.0//EN
CALSCALE:GREGORIAN
METHOD:PUBLISH
X-ORIGINAL-URL:https://parroquiatorrepacheco.es
X-WR-CALDESC:Eventos para Parroquia Nuestra Señora del Rosario
REFRESH-INTERVAL;VALUE=DURATION:PT1H
X-Robots-Tag:noindex
X-PUBLISHED-TTL:PT1H
BEGIN:VTIMEZONE
TZID:UTC
BEGIN:STANDARD
TZOFFSETFROM:+0000
TZOFFSETTO:+0000
TZNAME:UTC
DTSTART:20230101T000000
END:STANDARD
END:VTIMEZONE
BEGIN:VEVENT
DTSTART;TZID=UTC:20241016T173000
DTEND;TZID=UTC:20241016T183000
DTSTAMP:20260425T153006
CREATED:20240924T144042Z
LAST-MODIFIED:20240924T144418Z
UID:4881-1729099800-1729103400@parroquiatorrepacheco.es
SUMMARY:Curso de formación de catequistas - Sesión 1
DESCRIPTION:Desde la Comisión para la Evangelización\, Catequesis y Catecumenado de la Conferencia Episcopal Española han organizado este curso para ayudar a todas las catequistas en su formación para la misión encomendada. \nSESIÓN 1: Importancia de la familia como Iglesia doméstica\n  \n \n  \nhttps://evangelizacion.conferenciaepiscopal.es/curso-online-para-sacerdotes-y-catequistas/
URL:https://parroquiatorrepacheco.es/eventos/curso-de-formacion-de-catequistas-sesion-1/
CATEGORIES:Destacados,Eventos
ATTACH;FMTTYPE=image/jpeg:https://parroquiatorrepacheco.es/wp-content/uploads/2024/09/240924-Curos-catequistas-CEE.jpg
END:VEVENT
END:VCALENDAR