BEGIN:VCALENDAR
VERSION:2.0
PRODID:-//Parroquia Nuestra Señora del Rosario - ECPv6.15.20//NONSGML v1.0//EN
CALSCALE:GREGORIAN
METHOD:PUBLISH
X-ORIGINAL-URL:https://parroquiatorrepacheco.es
X-WR-CALDESC:Eventos para Parroquia Nuestra Señora del Rosario
REFRESH-INTERVAL;VALUE=DURATION:PT1H
X-Robots-Tag:noindex
X-PUBLISHED-TTL:PT1H
BEGIN:VTIMEZONE
TZID:UTC
BEGIN:STANDARD
TZOFFSETFROM:+0000
TZOFFSETTO:+0000
TZNAME:UTC
DTSTART:20230101T000000
END:STANDARD
END:VTIMEZONE
BEGIN:VEVENT
DTSTART;TZID=UTC:20241018T173000
DTEND;TZID=UTC:20241018T173000
DTSTAMP:20260425T153006
CREATED:20241011T205433Z
LAST-MODIFIED:20241011T205434Z
UID:4902-1729272600-1729272600@parroquiatorrepacheco.es
SUMMARY:Convocatoria niños y adolescentes
DESCRIPTION:Tu hijo/a no lo tiene todo conseguido. Su proceso de fe no acaba con recibir la Primera Comunión\, sino que es bueno que siga creciendo en su relación con el Señor\, encontrando respuestas que le ayuden a convertirse en una persona con valores distintos a los que le ofrecen esta sociedad en la que vivimos y una esperanza fuerte capaz de ayudarle a construir pilares solidos en su vida\, sabiendo que el pilar fundamental que sostiene nuestra vida es CRISTO. \nPor ello\, te invitamos a que los traigas y los animes a participar en los grupos que continúan el proceso de fe tras la Primera Comunión. Grupos de niños que pasarán a ser jóvenes y podrán recibir el Sacramento de la Confirmación. \nHabitualmente estos grupos se reunirán los viernes por la tarde\, pero si tienes dificultad en venir ese día pero estás interesado en pertenecer a uno de estos grupos\, ven a hablar con nosotros y veremos la posibilidad de formar algún grupo otro día distinto. ¡VEN! \n  \nJueves\, 18 de octubre\, a las 5\,30 de la tarde\n 
URL:https://parroquiatorrepacheco.es/eventos/convocatoria-ninos-y-adolescentes/
LOCATION:Salones parroquiales
CATEGORIES:Destacados,Eventos
ATTACH;FMTTYPE=image/jpeg:https://parroquiatorrepacheco.es/wp-content/uploads/2024/10/241018-Convocatoria-adolescentes.jpg
ORGANIZER;CN="Parroquia Ntra. Sra. del Rosario":MAILTO:grace@ancorathemes.com
END:VEVENT
BEGIN:VEVENT
DTSTART;TZID=UTC:20241018T193000
DTEND;TZID=UTC:20241018T203000
DTSTAMP:20260425T153006
CREATED:20241011T211120Z
LAST-MODIFIED:20241011T211120Z
UID:4906-1729279800-1729283400@parroquiatorrepacheco.es
SUMMARY:Convocatoria Grupos de Jóvenes
DESCRIPTION:¿No estás un poco harto de que te digan en que creer\, que pensar o cómo tienes que actuar? Hay muchas maneras de manipular las conciencias y una es ridiculizando lo que no es “políticamente correcto” según la mayoría. \nSé libre\, sé cristiano. Que nadie te lo cuente. Ven a descubrir a CRISTO en tu vida y descubrirás suficientes razones para querer vivir Su Vida. \n  \nGRUPOS PARA JÓVENES\nCOMENZAMOS EL VIERNES 18 DE OCTUBRE\, A LAS 7\,30 DE LA TARDE\n  \n \n 
URL:https://parroquiatorrepacheco.es/eventos/convocatoria-grupos-de-jovenes-2/
LOCATION:Salones parroquiales
CATEGORIES:Destacados,Eventos
ATTACH;FMTTYPE=image/jpeg:https://parroquiatorrepacheco.es/wp-content/uploads/2024/10/241018-Convocatoria-jovenes.jpg
ORGANIZER;CN="Parroquia Ntra. Sra. del Rosario":MAILTO:grace@ancorathemes.com
END:VEVENT
END:VCALENDAR