BEGIN:VCALENDAR
VERSION:2.0
PRODID:-//Parroquia Nuestra Señora del Rosario - ECPv6.15.20//NONSGML v1.0//EN
CALSCALE:GREGORIAN
METHOD:PUBLISH
X-ORIGINAL-URL:https://parroquiatorrepacheco.es
X-WR-CALDESC:Eventos para Parroquia Nuestra Señora del Rosario
REFRESH-INTERVAL;VALUE=DURATION:PT1H
X-Robots-Tag:noindex
X-PUBLISHED-TTL:PT1H
BEGIN:VTIMEZONE
TZID:UTC
BEGIN:STANDARD
TZOFFSETFROM:+0000
TZOFFSETTO:+0000
TZNAME:UTC
DTSTART:20230101T000000
END:STANDARD
END:VTIMEZONE
BEGIN:VEVENT
DTSTART;TZID=UTC:20241119T220000
DTEND;TZID=UTC:20241119T220000
DTSTAMP:20260425T140028
CREATED:20241103T105222Z
LAST-MODIFIED:20251105T170233Z
UID:4951-1732053600-1732053600@parroquiatorrepacheco.es
SUMMARY:Encuentros Tabor. Noviembre
DESCRIPTION:Comenzamos este mes de noviembre la celebración de los Encuentros Tabor. Espacios de oración\, de silencio\, de encuentro personal con el Señor. Lo vivimos en el contexto de la noche. A una hora en la que hemos de movernos\, salir de nuestra comodidad\, para salir a encontrarnos con Él.\n\nLos llamamos Encuentros Tabor porque es el Señor el que nos invita a acompañarlo. Subimos a la montaña porque sabemos que es lugar privilegiado para encontrarnos con Él. Y como en toda subida\, hemos de ser conscientes de todo aquello que debemos ir dejando para acudir ligeros a su invitación. La invitación es suya\, porque quiere revelarse en tu vida. Quiere mostrarse para ti\, para que pueda arder tu corazón.\n\nEn este primer Encuentro Él va a pasar muy cerca de ti\, de todas aquellas cosas que te mantienen postrado\, te va a mirar y se va a interesar por ti.\n\n \n¡Ánimo\, levántate que te llama!
URL:https://parroquiatorrepacheco.es/eventos/encuentros-tabor-noviembre/
LOCATION:Parroquia Ntra. del Rosario\, Plaza de la Iglesia\, s/n\, Torre Pacheco\, 30700\, España
CATEGORIES:Destacados,Eventos
ATTACH;FMTTYPE=image/jpeg:https://parroquiatorrepacheco.es/wp-content/uploads/2024/11/241103-Tabor.jpg
ORGANIZER;CN="Parroquia Ntra. Sra. del Rosario":MAILTO:grace@ancorathemes.com
END:VEVENT
END:VCALENDAR