BEGIN:VCALENDAR
VERSION:2.0
PRODID:-//Parroquia Nuestra Señora del Rosario - ECPv6.15.20//NONSGML v1.0//EN
CALSCALE:GREGORIAN
METHOD:PUBLISH
X-WR-CALNAME:Parroquia Nuestra Señora del Rosario
X-ORIGINAL-URL:https://parroquiatorrepacheco.es
X-WR-CALDESC:Eventos para Parroquia Nuestra Señora del Rosario
REFRESH-INTERVAL;VALUE=DURATION:PT1H
X-Robots-Tag:noindex
X-PUBLISHED-TTL:PT1H
BEGIN:VTIMEZONE
TZID:UTC
BEGIN:STANDARD
TZOFFSETFROM:+0000
TZOFFSETTO:+0000
TZNAME:UTC
DTSTART:20240101T000000
END:STANDARD
END:VTIMEZONE
BEGIN:VEVENT
DTSTART;TZID=UTC:20250305T000000
DTEND;TZID=UTC:20250305T235959
DTSTAMP:20260425T124228
CREATED:20250228T193643Z
LAST-MODIFIED:20250228T193643Z
UID:5130-1741132800-1741219199@parroquiatorrepacheco.es
SUMMARY:Miércoles de Ceniza. Horarios
DESCRIPTION:
URL:https://parroquiatorrepacheco.es/eventos/miercoles-de-ceniza-horarios/
LOCATION:Parroquia Ntra. del Rosario\, Plaza de la Iglesia\, s/n\, Torre Pacheco\, 30700\, España
CATEGORIES:Destacados,Eventos
ATTACH;FMTTYPE=image/jpeg:https://parroquiatorrepacheco.es/wp-content/uploads/2025/02/2025-ceniza.jpg
ORGANIZER;CN="Parroquia Ntra. Sra. del Rosario":MAILTO:grace@ancorathemes.com
END:VEVENT
BEGIN:VEVENT
DTSTART;TZID=UTC:20250307T100000
DTEND;TZID=UTC:20250307T103000
DTSTAMP:20260425T124228
CREATED:20250228T185523Z
LAST-MODIFIED:20250228T191635Z
UID:5098-1741341600-1741343400@parroquiatorrepacheco.es
SUMMARY:Viernes Cuaresmales. Sesión I: La importancia del corazón
DESCRIPTION:Los Viernes Cuaresmales son meditaciones que nos ayudan a profundizar en nuestro encuentro con el Señor. Durante esta cuaresma los realizaremos en torno a exposición y meditación de la Encíclica DILEXIT NOS\, sobre el Corazón de Jesús. \nCada viernes se nos ofrecerá profundizar en un capítulos distinto del documento del Papa Francisco. \n  \nDescargar la Encíclica\n  \nPRIMERA SESIÓN: LA IMPORTANCIA DEL CORAZÓN
URL:https://parroquiatorrepacheco.es/eventos/viernes-uaresmales-sesion-i-la-importancia-del-corazon/
LOCATION:Parroquia Ntra. del Rosario\, Plaza de la Iglesia\, s/n\, Torre Pacheco\, 30700\, España
CATEGORIES:Destacados,Eventos
ATTACH;FMTTYPE=image/jpeg:https://parroquiatorrepacheco.es/wp-content/uploads/2025/02/2025-Meditaciones.jpg
ORGANIZER;CN="Parroquia Ntra. Sra. del Rosario":MAILTO:grace@ancorathemes.com
END:VEVENT
BEGIN:VEVENT
DTSTART;TZID=UTC:20250307T203000
DTEND;TZID=UTC:20250307T213000
DTSTAMP:20260425T124228
CREATED:20250228T192756Z
LAST-MODIFIED:20250304T072814Z
UID:5127-1741379400-1741383000@parroquiatorrepacheco.es
SUMMARY:Besapié y Procesión con Ntro. Padre Jesús Nazareno
DESCRIPTION:El próximo Viernes 7 de marzo\, primer viernes de marzo\, tendrá lugar el tradicional Besapié a la imagen de Ntro. Padre Jesús Nazareno. Una bella tradición de acudir a venerar la imagen de nuestro Señor\, de pedirle\, de rogarle o simplemente de darle gracias. \nDurante todo el día estará la Iglesia abierta para que acudáis todos aquellos que lo necesitéis. No se cerrará al mediodía. Desde las 7 de la mañana a las 8 de la noche\, podréis venir a hacer la visita. \nPor la noche\, como novedad\, llevaremos a cabo una Procesión con la imagen del Nazareno\, acompañándolo con el rezo del Viacrucis\, por las calles de nuestro pueblo. La procesión será a las 20\,30h. \n 
URL:https://parroquiatorrepacheco.es/eventos/besapie-y-procesion-con-ntro-padre-jesus-nazareno-2/
LOCATION:Parroquia Ntra. del Rosario\, Plaza de la Iglesia\, s/n\, Torre Pacheco\, 30700\, España
CATEGORIES:Destacados,Eventos
ATTACH;FMTTYPE=image/jpeg:https://parroquiatorrepacheco.es/wp-content/uploads/2024/02/2024-Besapie.jpg
ORGANIZER;CN="Parroquia Ntra. Sra. del Rosario":MAILTO:grace@ancorathemes.com
END:VEVENT
BEGIN:VEVENT
DTSTART;TZID=UTC:20250308T103000
DTEND;TZID=UTC:20250308T130000
DTSTAMP:20260425T124228
CREATED:20250124T082606Z
LAST-MODIFIED:20250127T144521Z
UID:5034-1741429800-1741438800@parroquiatorrepacheco.es
SUMMARY:Retiro de discernimiento ACG
DESCRIPTION:Tras tres años de andadura con el Proyecto de Acción Católica General ofrecemos\, por primera vez\, la oportunidad de dar un paso más en el compromiso con esta asociación y con el apostolado asociado en la Iglesia. \nSon muchos y numerosos los documentos del Magisterio de la Iglesia que nos hablan de la importancia de la Acción Católica como respuesta para el compromiso de los laicos en la pastoral eclesial. Tanto San Pablo VI como San Juan Pablo II la calificaban como “una singular forma de ministerialidad eclesial”. \nDesde una participación no teórica sino vivencial\, son muchos laicos en la parroquia los que están gustando de la bondad de trabajar en red  junto a laicos de distintas parroquias y diócesis\, en proyectos a través de los cuales estamos llevando una nueva evangelización\, que pone el acento en la misión y en el anuncio a los que todavía no conoces al Señor. Es lo que el Papa Francisco llama “conversión pastoral”. Proyectos como los equipos de vida\, los Encuentro cuatro40\, la experiencia misionera Face to Face… \nPor este motivo\, piensa\, medita y reza si no será el momento de dar el paso y comprometerme más con esta asociación. El compromiso no es una exigencia\, sino una respuesta personal\, desde la fe\, al deseo de construir el Reino de Dios\, desde lo que cada uno es capaz y puede aportar. Este compromiso debe ser entendido desde el discernimiento vocacional\, es decir\, como respuesta a una llamada que el Señor te hace\, de manera personal\, para pertenecer y apoyar un proyecto que tiene como único objetivo la misión. \nPor todo esto\, pregúntate ante el Señor: \n\n¿Me siento llamado a aportar mi grano de arena en la construcción del Reino de Dios desde el Proyecto de ACG?\n¿Siento alegría y ánimo participando en las propuesta que ACG ofrece a mi parroquia?\n¿Creo que la ACG está aportando un mayor sentido comunitario y misionero a la parroquia y a mí mismo?\n¿Me gustaría que el proyecto evangelizador que ofrece la ACG siguiese ayudando a que otros puedan encontrarse con el Señor?\n¿Qué puedo aportar yo? ¿Me gustaría seguir trabajando en red?\n¿Por qué no asociarme?\n\nSi\, desde la oración\, ves que el Señor te ayuda a una reflexión positiva\, no exenta de crítica\, ante este proyecto y quieres participar en el Retiro de Discernimiento\, que no compromete a nada\, puedes inscribirte en el formulario que te ofrecemos a continuación. También\, desde la parroquia\, te podemos ofrecer materiales para el discernimiento personal y acompañarte en este proceso. \nDesde la Comisión Diocesana de Acción Católica General se ofrecerá este retiro para que también laicos de otras parroquias puedan vivir este discernimiento. \n  \nPor favor\, activa JavaScript en tu navegador para completar este formulario.Nombre *NombreApellidosDiseñoTeléfonoEmail *¿Perteneces a un equipo de vida? *SINOEdad *Parroquia a la que perteneces y poblaciónConsentimientoEn la PARROQUIA DE NUESTRA SEÑORA DEL ROSARIO tratamos la información que nos facilita con el fin de atender a su solicitud. Los datos que nos ha proporcionado se conservarán mientras no solicite su supresión o cancelación y siempre que resulten adecuados\, pertinentes y limitados a lo necesario para los fines para los que sean tratados. Los datos no se cederán a terceros salvo en los casos en que exista una obligación legal y a otras entidades eclesiásticas si fuera preciso\, estando permitido si fuera consecuencia del cumplimiento de una norma o necesario para la realización de sus fines lícitos de conformidad con el artículo 6 del Decreto General de la CEE para la Protección de Datos de la Iglesia Católica en España. En cumplimiento de los artículos 17 a 24 del Decreto General usted podrá ejercitar sus derechos de acceso\, rectificación\, supresión\, limitación del tratamiento\, oposición y portabilidad de los datos\, dirigiéndose a la dirección de la parroquia indicada anteriormente.ConsentimientoAceptoDNI para el consentimientoEnviar  \n  \n 
URL:https://parroquiatorrepacheco.es/eventos/retiro-de-discernimiento-acg/
LOCATION:Campamento San Diego – Torre Pacheco\, Camino Torre Bermeja\, Torre Pacheco\, 30700\, Spain
CATEGORIES:Destacados,Eventos
ATTACH;FMTTYPE=image/jpeg:https://parroquiatorrepacheco.es/wp-content/uploads/2025/01/250222-Retiro-discernimiento.jpg
END:VEVENT
BEGIN:VEVENT
DTSTART;TZID=UTC:20250310T100000
DTEND;TZID=UTC:20250310T170000
DTSTAMP:20260425T124228
CREATED:20241028T082136Z
LAST-MODIFIED:20241028T082136Z
UID:4943-1741600800-1741626000@parroquiatorrepacheco.es
SUMMARY:Escuela de padres
DESCRIPTION:Desde el servicio de acompañamiento psicológico que ofrecemos en la parroquia a través de Cáritas lanzamos esta Escuela de Padres con el objetivo de ofrecer herramientas que ayuden a los padres en la apasionante tarea de educar a sus hijos. Dña. Ana Paños\, psicóloga encargada de este área de acompañamiento en nuestra Cáritas\, será la encargada de ofrecernos claves de ayuda para mejorar la relación padres e hijos. Una escuela interesante que te puede venir muy bien. \nEste es el programa de la Escuela\, subrayamos en negrita la sesión correspondiente: \n  \n21/10/2024     Bienvenida y presentación del programa \n04/11/2024     Educar en positivo \n18/11/2024     Apegos y estilos educativos \n02/12/2024    Cómo fomentar el apego y parentalidad positiva \n16/12/2024     Importancia de la comunicación en la crianza \n13/01/2025     Desarrollo emocional y social de los hijos \n27/01/2025     Disciplina y límites \n10/02/2025     Educación en valores \n24/02/2025     Resolución de conflictos familiares \n10/03/2024     Sexualidad y afectividad \n 
URL:https://parroquiatorrepacheco.es/eventos/escuela-de-padres-9/
LOCATION:Salón Parroquial\, Plaza Párroco D. Pedro\, Torre Pacheco\, Murcia\, 30700\, España
CATEGORIES:Destacados,Eventos
ATTACH;FMTTYPE=image/jpeg:https://parroquiatorrepacheco.es/wp-content/uploads/2024/10/241016-Escuela-de-padres.jpg
ORGANIZER;CN="Parroquia Ntra. Sra. del Rosario":MAILTO:grace@ancorathemes.com
END:VEVENT
BEGIN:VEVENT
DTSTART;TZID=UTC:20250314T000000
DTEND;TZID=UTC:20250316T235959
DTSTAMP:20260425T124228
CREATED:20250202T092105Z
LAST-MODIFIED:20250214T125727Z
UID:5066-1741910400-1742169599@parroquiatorrepacheco.es
SUMMARY:Encuentro General de Infancia
DESCRIPTION:Desde hace unos años\, nuestra parroquia de Torre Pacheco\, comenzó a vivir el Proyecto de Acción Católica General. Un proyecto de formación de discípulos misioneros orientado a toda la persona: infancia\, jóvenes y adultos. \nTodos sabemos lo difícil\, a veces\, del acompañamiento en la fe a los adolescentes\, que son bombardeados por muchos estímulos en nuestra sociedad\, que a veces no les ayudan a crecer desde la fe y desde un espíritu crítico. \nEs por ellos\, que desde la Permanente Nacional de ACG\, ofrecen a todas las diócesis y parroquias\, un Encuentro General de Infancia\, donde poder animarlos a descubrir la belleza de seguir a Cristo. \nDesde nuestra parroquia vemos este encuentro como una gran oportunidad para acompañar más y mejor a nuestros niños y adolescentes. Así que ofrecemos a todas las familias la oportunidad de que sus hijos puedan participar en él. Ya tuvimos una reunión informativa al respecto y aquí os ofrecemos el enlace de inscripción. Si estáis interesados podéis inscribiros y conforme vayamos sabiendo cuántos seriamos pues os detallaríamos todas las condiciones del viaje. \nINFORMACIÓN DEL ENCUENTRO: \n\nALOJAMIENTO: Colegio Ntra. Sra. de los Infantes (Toledo)\nINSTALACIONES DEL ENCUENTRO: Auditorio “Jesús Hornillos” y Parroquia de San Julián.\nPRECIO DE INSCRIPCIÓN por niño 60€ + transporte (el precio total se concretará cuando tengamos el número final de inscritos). Mientras tanto puedes inscribirte y pagar los 60€ y más adelante\, en un segundo pago\, se abonará el transporte.\n\nNº DE CUENTA: ES78 3058 0228 2327 2000 6003 (Cajamar). CONCEPTO: Enc. Infancia + nombre del niño (entregar resguardo a la catequista)\n\n  \nFECHA LÍMITE DE INSCRIPCIÓN: 15 DE FEBRERO\n  \nPor favor\, activa JavaScript en tu navegador para completar este formulario.Nombre *NombreApellidosDiseñoEdad *TeléfonoFecha de nacimiento *Enfermedades o alergias a tener en cuentaParticipa como:Niño / niñaAcompañanteSacerdoteNúmero del DNIParroquia a la que perteneces y población Alergias o intolerancias alimentariasDiseñoNombre del padre o madre *email del padre o madres *Teléfono del padre o madreConsentimientoEn la PARROQUIA DE NUESTRA SEÑORA DEL ROSARIO tratamos la información que nos facilita con el fin de atender a su solicitud. Los datos que nos ha proporcionado se conservarán mientras no solicite su supresión o cancelación y siempre que resulten adecuados\, pertinentes y limitados a lo necesario para los fines para los que sean tratados. Los datos no se cederán a terceros salvo en los casos en que exista una obligación legal y a otras entidades eclesiásticas si fuera preciso\, estando permitido si fuera consecuencia del cumplimiento de una norma o necesario para la realización de sus fines lícitos de conformidad con el artículo 6 del Decreto General de la CEE para la Protección de Datos de la Iglesia Católica en España. En cumplimiento de los artículos 17 a 24 del Decreto General usted podrá ejercitar sus derechos de acceso\, rectificación\, supresión\, limitación del tratamiento\, oposición y portabilidad de los datos\, dirigiéndose a la dirección de la parroquia indicada anteriormente.ConsentimientoAceptoDNI del padre o madreEnviar  \n 
URL:https://parroquiatorrepacheco.es/eventos/encuentro-general-de-infancia/
LOCATION:Toledo
CATEGORIES:Destacados,Eventos
ATTACH;FMTTYPE=image/jpeg:https://parroquiatorrepacheco.es/wp-content/uploads/2025/02/Encuentro-de-infancia.jpg
END:VEVENT
BEGIN:VEVENT
DTSTART;TZID=UTC:20250314T100000
DTEND;TZID=UTC:20250314T103000
DTSTAMP:20260425T124228
CREATED:20250228T190317Z
LAST-MODIFIED:20250228T191606Z
UID:5109-1741946400-1741948200@parroquiatorrepacheco.es
SUMMARY:Viernes Cuaresmales. Sesión II: Gestos y palabras de amor
DESCRIPTION:Los Viernes Cuaresmales son meditaciones que nos ayudan a profundizar en nuestro encuentro con el Señor. Durante esta cuaresma los realizaremos en torno a exposición y meditación de la Encíclica DILEXIT NOS\, sobre el Corazón de Jesús. \nCada viernes se nos ofrecerá profundizar en un capítulos distinto del documento del Papa Francisco. \n  \nDescargar la Encíclica\n  \nSEGUNDA SESIÓN: GESTOS Y PALABRAS DE AMOR
URL:https://parroquiatorrepacheco.es/eventos/viernes-uaresmales-sesion-i-la-importancia-del-corazon-2/
LOCATION:Parroquia Ntra. del Rosario\, Plaza de la Iglesia\, s/n\, Torre Pacheco\, 30700\, España
CATEGORIES:Destacados,Eventos
ATTACH;FMTTYPE=image/jpeg:https://parroquiatorrepacheco.es/wp-content/uploads/2025/02/2025-Meditaciones.jpg
ORGANIZER;CN="Parroquia Ntra. Sra. del Rosario":MAILTO:grace@ancorathemes.com
END:VEVENT
BEGIN:VEVENT
DTSTART;TZID=UTC:20250321T100000
DTEND;TZID=UTC:20250321T103000
DTSTAMP:20260425T124228
CREATED:20250228T190558Z
LAST-MODIFIED:20250228T191532Z
UID:5113-1742551200-1742553000@parroquiatorrepacheco.es
SUMMARY:Viernes Cuaresmales. Sesión III: Este es el corazón que tanto amó
DESCRIPTION:Los Viernes Cuaresmales son meditaciones que nos ayudan a profundizar en nuestro encuentro con el Señor. Durante esta cuaresma los realizaremos en torno a exposición y meditación de la Encíclica DILEXIT NOS\, sobre el Corazón de Jesús. \nCada viernes se nos ofrecerá profundizar en un capítulos distinto del documento del Papa Francisco. \n  \nDescargar la Encíclica\n  \nTERCERA SESIÓN: ESTE ES EL CORAZÓN QUE TANTO AMÓ
URL:https://parroquiatorrepacheco.es/eventos/viernes-cuaresmales-sesion-iii-este-es-el-corazon-que-tanto-amo/
LOCATION:Parroquia Ntra. del Rosario\, Plaza de la Iglesia\, s/n\, Torre Pacheco\, 30700\, España
CATEGORIES:Destacados,Eventos
ATTACH;FMTTYPE=image/jpeg:https://parroquiatorrepacheco.es/wp-content/uploads/2025/02/2025-Meditaciones.jpg
ORGANIZER;CN="Parroquia Ntra. Sra. del Rosario":MAILTO:grace@ancorathemes.com
END:VEVENT
BEGIN:VEVENT
DTSTART;TZID=UTC:20250328T100000
DTEND;TZID=UTC:20250328T103000
DTSTAMP:20260425T124228
CREATED:20250228T190701Z
LAST-MODIFIED:20250228T191501Z
UID:5115-1743156000-1743157800@parroquiatorrepacheco.es
SUMMARY:Viernes Cuaresmales. Sesión IV: Amor que da de beber
DESCRIPTION:Los Viernes Cuaresmales son meditaciones que nos ayudan a profundizar en nuestro encuentro con el Señor. Durante esta cuaresma los realizaremos en torno a exposición y meditación de la Encíclica DILEXIT NOS\, sobre el Corazón de Jesús. \nCada viernes se nos ofrecerá profundizar en un capítulos distinto del documento del Papa Francisco. \n  \nDescargar la Encíclica\n  \nCUARTA SESIÓN: AMOR QUE DA DE BEBER
URL:https://parroquiatorrepacheco.es/eventos/viernes-cuaresmales-sesion-iv-amor-que-da-de-beber/
LOCATION:Parroquia Ntra. del Rosario\, Plaza de la Iglesia\, s/n\, Torre Pacheco\, 30700\, España
CATEGORIES:Destacados,Eventos
ATTACH;FMTTYPE=image/jpeg:https://parroquiatorrepacheco.es/wp-content/uploads/2025/02/2025-Meditaciones.jpg
ORGANIZER;CN="Parroquia Ntra. Sra. del Rosario":MAILTO:grace@ancorathemes.com
END:VEVENT
END:VCALENDAR