BEGIN:VCALENDAR
VERSION:2.0
PRODID:-//Parroquia Nuestra Señora del Rosario - ECPv6.15.20//NONSGML v1.0//EN
CALSCALE:GREGORIAN
METHOD:PUBLISH
X-ORIGINAL-URL:https://parroquiatorrepacheco.es
X-WR-CALDESC:Eventos para Parroquia Nuestra Señora del Rosario
REFRESH-INTERVAL;VALUE=DURATION:PT1H
X-Robots-Tag:noindex
X-PUBLISHED-TTL:PT1H
BEGIN:VTIMEZONE
TZID:UTC
BEGIN:STANDARD
TZOFFSETFROM:+0000
TZOFFSETTO:+0000
TZNAME:UTC
DTSTART:20240101T000000
END:STANDARD
END:VTIMEZONE
BEGIN:VEVENT
DTSTART;TZID=UTC:20251008T173000
DTEND;TZID=UTC:20251008T183000
DTSTAMP:20260425T032333
CREATED:20250918T114505Z
LAST-MODIFIED:20250918T114625Z
UID:5554-1759944600-1759948200@parroquiatorrepacheco.es
SUMMARY:Ofrenda Infantil
DESCRIPTION:
URL:https://parroquiatorrepacheco.es/eventos/ofrenda-infantil/
CATEGORIES:Destacados,Eventos
ATTACH;FMTTYPE=image/jpeg:https://parroquiatorrepacheco.es/wp-content/uploads/2025/09/Ofrenda-evento.jpg
END:VEVENT
BEGIN:VEVENT
DTSTART;TZID=UTC:20251014T210000
DTEND;TZID=UTC:20251014T220000
DTSTAMP:20260425T032333
CREATED:20251011T114536Z
LAST-MODIFIED:20251011T114549Z
UID:5587-1760475600-1760479200@parroquiatorrepacheco.es
SUMMARY:Reunión del Consejo de Pastoral
DESCRIPTION:Reunión de comienzo de curso. Con el siguiente orden del día: \n\n\n\n1.- Oración.2.- Aprobación del acta anterior de fecha 18-09-24\, si procede.3.- Proyecto grupo evangelización.4.- Renovación Consejo de Pastoral.5.- Renovación Hermandad y junta del cementerio.6.- Información trabajos de la torre.7.- Ruegos y preguntas.
URL:https://parroquiatorrepacheco.es/eventos/reunion-del-consejo-de-pastoral-2/
CATEGORIES:Destacados,Eventos
END:VEVENT
BEGIN:VEVENT
DTSTART;TZID=UTC:20251015T163000
DTEND;TZID=UTC:20251015T173000
DTSTAMP:20260425T032333
CREATED:20251014T090157Z
LAST-MODIFIED:20251014T090205Z
UID:5595-1760545800-1760549400@parroquiatorrepacheco.es
SUMMARY:Encuentro Acompañantes de Infancia
DESCRIPTION:Formación de acompañantes de infancia del Nivel de Jesús es el Señor y del Nivel de Testigos del Señor.
URL:https://parroquiatorrepacheco.es/eventos/encuentro-acompanantes-de-infancia/
CATEGORIES:Destacados,Eventos
ATTACH;FMTTYPE=image/png:https://parroquiatorrepacheco.es/wp-content/uploads/2025/10/Logo-infancias-sin-fondo.png
END:VEVENT
BEGIN:VEVENT
DTSTART;TZID=UTC:20251017T080000
DTEND;TZID=UTC:20251019T170000
DTSTAMP:20260425T032333
CREATED:20250918T111614Z
LAST-MODIFIED:20250918T140524Z
UID:5525-1760688000-1760893200@parroquiatorrepacheco.es
SUMMARY:Encuentro de infancia en Toledo
DESCRIPTION:Desde la Acción Católica General se convoca a todas las parroquias que estamos trabajando desde este proyecto de Iglesia\, a participar en un Encuentro de Infancia que tendrá lugar en Toledo en el próximo mes de octubre. \n\n\n\nLa parroquia nos queremos unir a esta iniciativa que puede ser un momento muy ilusionante para todos nuestros niños y niñas. Si estás interesado en que tus hijos puedan participar ponte en contacto con su catequista. \n\n\n\nDescárgate el Flyer informativo \n\n\n\nA5-Flyer_encuentro-infancia[1]Descarga
URL:https://parroquiatorrepacheco.es/eventos/encuentro-de-infancia-en-toledo/
CATEGORIES:Destacados,Eventos
ATTACH;FMTTYPE=image/jpeg:https://parroquiatorrepacheco.es/wp-content/uploads/2025/09/evento.jpg
END:VEVENT
BEGIN:VEVENT
DTSTART;TZID=UTC:20250920T210000
DTEND;TZID=UTC:20250920T223000
DTSTAMP:20260425T032333
CREATED:20250918T112841Z
LAST-MODIFIED:20250918T112843Z
UID:5548-1758402000-1758407400@parroquiatorrepacheco.es
SUMMARY:Encuentros Proyecto Amor Conyugal
DESCRIPTION:
URL:https://parroquiatorrepacheco.es/eventos/encuentros-proyecto-amor-conyugal/
CATEGORIES:Destacados,Eventos
ATTACH;FMTTYPE=image/jpeg:https://parroquiatorrepacheco.es/wp-content/uploads/2022/12/Proyecto-AC.jpg
END:VEVENT
BEGIN:VEVENT
DTSTART;TZID=UTC:20251019T153000
DTEND;TZID=UTC:20251019T200000
DTSTAMP:20260425T032333
CREATED:20251014T094802Z
LAST-MODIFIED:20251014T095331Z
UID:5608-1760887800-1760904000@parroquiatorrepacheco.es
SUMMARY:Peregrinación Jubileo de la Esperanza
DESCRIPTION:Peregrinación a Murcia para ganar el Jubileo de la Esperanza\, convocado por el Papa Francisco para toda la Iglesia. Nuestro Obispo D. José Manuel estableció la Santa Iglesia Catedral como el Templo Jubilar Diocesano y hasta allí peregrinaremos para ganar la Indulgencia Plenaria del Año Jubilar.
URL:https://parroquiatorrepacheco.es/eventos/peregrinacion-jubileo-de-la-esperanza/
CATEGORIES:Destacados,Eventos
END:VEVENT
BEGIN:VEVENT
DTSTART;TZID=UTC:20251021T220000
DTEND;TZID=UTC:20251021T230000
DTSTAMP:20260425T032333
CREATED:20251018T131518Z
LAST-MODIFIED:20251018T143824Z
UID:5646-1761084000-1761087600@parroquiatorrepacheco.es
SUMMARY:Próximo Encuentros Tabor
DESCRIPTION:Los Encuentros Tabor son una experiencia de Encuentro con Cristo. Un cara a cara con el Señor\, donde dejarte mirar por Él. Una oportunidad para\, al final de la jornada\, dedicar un espacio de tu día a estar con Él y experimentar un diálogo en el amor que te hará plantearte tu vida de manera diferente. \n\n\n\nHay experiencias importantes que uno vive que no se explican sino que se viven. Por lo tanto\, te invitamos a que puedas venir a vivir esta experiencia de encuentro con el Señor. Deja que Él te hable al corazón y te haga consciente de su presencia. \n\n\n\n“Estoy a tu puerta y llamo” (Ap 3\, 20) \n\n\n\nComenzamos el próximo martes 21 de octubre\, a las 10 de la noche.
URL:https://parroquiatorrepacheco.es/eventos/encuentros-tabor-3/
CATEGORIES:Destacados,Eventos
ATTACH;FMTTYPE=image/jpeg:https://parroquiatorrepacheco.es/wp-content/uploads/2025/09/1o-Tabor-2025-1.jpg
END:VEVENT
BEGIN:VEVENT
DTSTART;TZID=UTC:20251022T170000
DTEND;TZID=UTC:20251022T180000
DTSTAMP:20260425T032333
CREATED:20250918T115018Z
LAST-MODIFIED:20250918T115020Z
UID:5557-1761152400-1761156000@parroquiatorrepacheco.es
SUMMARY:Reunión Equipo de liturgia
DESCRIPTION:
URL:https://parroquiatorrepacheco.es/eventos/reunion-equipo-de-liturgia/
CATEGORIES:Destacados,Eventos
ATTACH;FMTTYPE=image/jpeg:https://parroquiatorrepacheco.es/wp-content/uploads/2023/09/Equipo-de-liturgia.jpg
END:VEVENT
BEGIN:VEVENT
DTSTART;TZID=UTC:20251025T080000
DTEND;TZID=UTC:20251026T170000
DTSTAMP:20260425T032333
CREATED:20251018T142645Z
LAST-MODIFIED:20251018T142759Z
UID:5674-1761379200-1761498000@parroquiatorrepacheco.es
SUMMARY:Convi-Asamblea de jóvenes ACG
DESCRIPTION:¡Querido/a joven!🤩¿Has empezado hace poco el curso y ya echas de menos el verano? ¿Sientes que te faltaron días de vacaciones y desearías volver a la playa?🥹 \n\n\n\n¡No te preocupes! La Convi-Asamblea (Convivencia+Asamblea) de Jóvenes🔴 es la respuesta: un fin de semana en el Mar Menor🏝\, lleno de amistad\, alegría y encuentro con Cristo😆. \n\n\n\n¡Ven y vive esta experiencia!El Señor te espera con los brazos abiertos… ¡y nosotros también!🌊✝✨ \n\n\n\nUn encuentro para jóvenes mayores de 14 años \n\n\n\nLUGAR: Casa de espiritualidad “Stella Maris” (Los Urrutias) \n\n\n\n\n\n\nInscríbete pulsando aquí
URL:https://parroquiatorrepacheco.es/eventos/convi-asamblea-de-jovenes-acg/
CATEGORIES:Destacados,Eventos
ATTACH;FMTTYPE=image/jpeg:https://parroquiatorrepacheco.es/wp-content/uploads/2025/10/Encuentro-jovenes.jpg
END:VEVENT
BEGIN:VEVENT
DTSTART;TZID=UTC:20251025T093000
DTEND;TZID=UTC:20251025T173000
DTSTAMP:20260425T032333
CREATED:20251014T083834Z
LAST-MODIFIED:20251018T144016Z
UID:5589-1761384600-1761413400@parroquiatorrepacheco.es
SUMMARY:Asamblea Diocesana de ACG
DESCRIPTION:Al comienzo de curso la Acción Católica General nos convoca para vivir un Encuentro fraterno y compartir objetivos para este año que ya hemos comenzado. También procederemos a la renovación de la responsabilidad diocesana de Infancia. Estamos todos invitados. \n\n\n\n \n\n\n\n\n\n\nInscríbete aquí
URL:https://parroquiatorrepacheco.es/eventos/asamblea-diocesana-de-acg/
CATEGORIES:Destacados,Eventos
ATTACH;FMTTYPE=image/jpeg:https://parroquiatorrepacheco.es/wp-content/uploads/2025/10/2025-Asamblea-de-ACG.jpg
END:VEVENT
BEGIN:VEVENT
DTSTART;TZID=UTC:20251031T173000
DTEND;TZID=UTC:20251031T193000
DTSTAMP:20260425T032333
CREATED:20251018T140432Z
LAST-MODIFIED:20251029T111735Z
UID:5661-1761931800-1761939000@parroquiatorrepacheco.es
SUMMARY:Holywins\, la Santidad Vence
DESCRIPTION:Todos sabemos que se acerca la conmemoración de Todos los Santos\, un día de fe dedicado a celebrar la Vida de todos aquellos que sabemos están en el Cielo\, todos nuestros santos. Un día de vida y de luz. Un día para celebrar que la SANTIDAD VENCE. Pero desgraciadamente\, en nuestra sociedad\, en la que muchas veces hacemos fiestas sin saber el significado de las mismas\, se ha implantado la cultura de la muerte. ¡Qué contenta tiene que estar la muerte que le ofrecemos a los mejores\, a nuestros niños\, en la celebración de Halloween! \n\n\n\n\n\n\n\nNosotros\, los cristianos no queremos seguir inflando este sin sentido\, por ello\, os queremos proponer celebrar el Holywins (LA SANTIDAD VENCE)\, una iniciativa para honrar la vida y enseñarles a nuestros niños que cuando nos llega el momento de la partida no nos convertiremos ni en zombis\, ni en seres raros\, ni en nada por el estilo. VAMOS AL CIELO\, donde están los santos. Se trata de una propuesta que surge en París hace ya algunos años\, precisamente para recuperar el valor y el sentido de la Fiesta de la Iglesia Católica de Todos los Santos y sobre todo “para resaltar la Santidad y el ejemplo de tantos Santos que a lo largo de la historia han entregado su vida por el Señor” \n\n\n\n\n\n\n\nEn nuestra tradición cristiana no cabe por tanto la celebración de Halloween. Por ello\, os proponemos que el viernes 31\, a las 5\,30 de la tarde\, podáis venir a la parroquia disfrazados de santos\, vírgenes\, ángeles u otras figuras cristianas. Una tarde para divertirnos\, rezar\, cantar\, participar en juegos\, talleres y celebrar la vida. \n\n\n\nSi necesitáis más información sobre este día podéis asistir a una reunión informativa que hemos preparado para el próximo lunes a las 8 de la tarde\, en la Igleisa. \n\n\n\n¡VEN A CELEBRAR LA VIDA Y LA LUZ!
URL:https://parroquiatorrepacheco.es/eventos/holywins-la-santidad-vence/
CATEGORIES:Destacados,Eventos
ATTACH;FMTTYPE=image/jpeg:https://parroquiatorrepacheco.es/wp-content/uploads/2025/10/Plantilla-Holywins.jpg
END:VEVENT
END:VCALENDAR