BEGIN:VCALENDAR
VERSION:2.0
PRODID:-//Parroquia Nuestra Señora del Rosario - ECPv6.15.20//NONSGML v1.0//EN
CALSCALE:GREGORIAN
METHOD:PUBLISH
X-WR-CALNAME:Parroquia Nuestra Señora del Rosario
X-ORIGINAL-URL:https://parroquiatorrepacheco.es
X-WR-CALDESC:Eventos para Parroquia Nuestra Señora del Rosario
REFRESH-INTERVAL;VALUE=DURATION:PT1H
X-Robots-Tag:noindex
X-PUBLISHED-TTL:PT1H
BEGIN:VTIMEZONE
TZID:UTC
BEGIN:STANDARD
TZOFFSETFROM:+0000
TZOFFSETTO:+0000
TZNAME:UTC
DTSTART:20240101T000000
END:STANDARD
END:VTIMEZONE
BEGIN:VEVENT
DTSTART;TZID=UTC:20260117T093000
DTEND;TZID=UTC:20260117T130000
DTSTAMP:20260425T013502
CREATED:20251207T092859Z
LAST-MODIFIED:20251207T094243Z
UID:5851-1768642200-1768654800@parroquiatorrepacheco.es
SUMMARY:Escuela de discípulos misioneros
DESCRIPTION:La escuela de discípulos misioneros responde al discernimiento comunitario que nos ha llevado a ver la necesidad de seguir caminando juntos hacia una renovación pastoral que permita ser\, cada vez más\, una parroquia misionera\, que pone el anuncio explícito del Evangelio en el centro de su actividad pastoral\, acogiendo y acompañando a las personas que viven el Encuentro con Cristo y abriendo procesos comunitarios que nos permitan construir juntos el Reino de Dios. \n\n\n\nEntendemos que una de las claves para conseguir ponernos en camino de conversión pastoral\, es acompañarnos en un proceso de conversión personal\, que pasa por revivir nuestro encuentro personal con Cristo\, entender nuestra vida de fe como un proceso discipular para toda la vida\, donde formarnos y compartir juntos la fe\, pero también adquiriendo las habilidades necesarias para liderar procesos de cambio que nos ayuden a llegar a todos aquellos que\, por distintos motivos\, viven indiferentes a la fe. \n\n\n\nPara iniciar este proceso de formación OFRECEMOS ESTA ESCUELA. \n\n\n\n\nSi sientes ese fuego del Espíritu en tu corazón y eres consciente de la llamada que el Señor te está haciendo para “dar gratis lo que has recibido” (Mt 10\,8)… ESTA ESCUELA ES PARA TI\n\n\n\nSi sientes la necesidad de anunciarlo a los que no lo conocen. ESTA ESCUELA ES PARA TI\n\n\n\nSi quieres vivir una experiencia de conversión personal y desde ella ayudar en la conversión de nuestra comunidad parroquial. ESTA ESCUELA ES PARA TI.\n\n\n\nSi no te muestras indiferente ante el sufrimiento que viven muchos hermanos por no conocer a Dios y sientes la urgencia de ayudarles a encontrar sentido\, felicidad\, verdad. ESTA ESCUELA ES PARA TI\n\n\n\nSi crees\, con firmeza\, que Dios es el único que puede ayudarnos a construir un mundo mejor. ESTA ESCUELA ES PARA TI.\n\n\n\nSi ves las carencias de nuestra parroquia y a la vez sueñas con que fuese de otra manera. ESTA ESCUELA ES PARA TI.\n\n\n\n\n\n\n\n\nTEMARIO: \n\n\n\n\nVolver al corazón del Evangelio. El encuentro con Cristo vivo.\n\n\n\nDe una Iglesia de mantenimiento a una pastoral misionera.\n\n\n\nIglesia sinodal. Caminar juntos\n\n\n\nEl arte de anunciar. El Primer Anuncio y la comunicación\n\n\n\nComunidad viva. Espiritualidad de la comunión y vida fraterna\n\n\n\nLiderazgo cristiano y trabajo en equipo\n\n\n\nParroquia en salida. Planificación y proyectos misioneros\n\n\n\nEspiritualidad del sembrador. Perseverar con esperanza\n\n\n\n\nINSCRIPCIÓN PARA LA ESCUELA \n\n\nPor favor\, activa JavaScript en tu navegador para completar este formulario.Nombre *NombreApellidosDiseñoTeléfonoEmail *¿Acompañas algún grupo en tu parroquia? *InfanciaJóvenesAdultos¿Estás en algún Equipo de Vida?\n				\n					\n					\n				\n				\n				SI\n			\n				\n					\n					\n				\n				\n				NO\n			Edad *Participas en alguna pastoral de la parroquia\n				\n					\n					\n				\n				\n				SI\n			\n				\n					\n					\n				\n				\n				NO\n			Si participas ¿en qué?¿Qué te mueve para querer participar? (desarrolla tu respuesta)Enviar
URL:https://parroquiatorrepacheco.es/eventos/escuela-de-discipulos-misioneros/
CATEGORIES:Destacados,Eventos
ATTACH;FMTTYPE=image/png:https://parroquiatorrepacheco.es/wp-content/uploads/2025/12/Imagen-web.png
END:VEVENT
BEGIN:VEVENT
DTSTART;TZID=UTC:20250920T210000
DTEND;TZID=UTC:20250920T223000
DTSTAMP:20260425T013502
CREATED:20250918T112841Z
LAST-MODIFIED:20250918T112843Z
UID:5548-1758402000-1758407400@parroquiatorrepacheco.es
SUMMARY:Encuentros Proyecto Amor Conyugal
DESCRIPTION:
URL:https://parroquiatorrepacheco.es/eventos/encuentros-proyecto-amor-conyugal/
CATEGORIES:Destacados,Eventos
ATTACH;FMTTYPE=image/jpeg:https://parroquiatorrepacheco.es/wp-content/uploads/2022/12/Proyecto-AC.jpg
END:VEVENT
BEGIN:VEVENT
DTSTART;TZID=UTC:20251216T220000
DTEND;TZID=UTC:20251216T230000
DTSTAMP:20260425T013502
CREATED:20251105T170737Z
LAST-MODIFIED:20251215T130739Z
UID:5716-1765922400-1765926000@parroquiatorrepacheco.es
SUMMARY:Encuentros Tabor. Señor\, ten piedad
DESCRIPTION:El Señor te invita a subir\, de nuevo\, con Él al Tabor. Es el lugar de la misericordia\, donde se muestra tal cual es y donde quiere también transfigurar tu vida\, llenarla de luz\, de vida\, de esperanza. \n\n\n\n \n\n\n\n¿Aceptas su invitación?
URL:https://parroquiatorrepacheco.es/eventos/encuentros-tabor-2/
CATEGORIES:Destacados,Eventos
ATTACH;FMTTYPE=image/jpeg:https://parroquiatorrepacheco.es/wp-content/uploads/2025/11/251216-Tabor-de-intercesion.jpg
END:VEVENT
BEGIN:VEVENT
DTSTART;TZID=UTC:20260122T203000
DTEND;TZID=UTC:20260122T213000
DTSTAMP:20260425T013502
CREATED:20251130T105400Z
LAST-MODIFIED:20251209T215421Z
UID:5834-1769113800-1769117400@parroquiatorrepacheco.es
SUMMARY:Encuentros para padres
DESCRIPTION:¿Por qué no vivir la comunión de tu hijo/a como una oportunidad para ti?  \n\n\n\n¿Por qué no darme un espacio para vivir mi fe? \n\n\n\nHay acontecimientos en la vida ante los cuales se nos abren dos caminos: verlos pasar sin más o vivirlos sacando lo bueno que nos pueden ofrecer o como una oportunidad para encontrar que algo nuevo puede comenzar a brotar. \n\n\n\nEstos encuentros\, que ofrecemos\, pretende servir de acompañamiento para todos aquellos que busquen y sientan el deseo de encontrar. Encuentro para dialogar\, compartir\, aprender y crecer en fe\, esperanza y caridad. \n\n\n\nEstos son los encuentros. Destacaremos el que corresponda al día anunciado. \n\n\n\nENCUENTRO 1: Dónde encontrar la felicidad. Jueves 22 de enero\, a las 20\,30h \n\n\n\nENCUENTRO 2: Bartimeo ¿Qué quieres que haga por ti? Jueves 29 de febrero\, a las 20\,30h \n\n\n\nENCUENTRO 3: Zaqueo. Hoy me quedo en tu casa. Jueves 12 de marzo\, a las 20\,30h \n\n\n\nENCUENTRO 4: La Samaritana. Yo tampoco te condeno. Jueves 16 de abril\, a las 20\,30h \n\n\n\nENCUENTRO 5: Jesús el Buen Pastor. Jueves 21 de mayo\, a las 21h \n\n\n\nENCUENTRO 6: La tempestad calmada. Jueves 18 de junio\, a las 21h. \n\n\n\nENCUENTRO 7: La Alianza. Por fechar… \n\n\n\n \n\n\nPor favor\, activa JavaScript en tu navegador para completar este formulario.Nombre *NombreApellidosDiseñoTeléfonoEmail *Edad *¿Estás confirmado?\n				\n					\n					\n				\n				\n				SI\n			\n				\n					\n					\n				\n				\n				NO\n			Enviar
URL:https://parroquiatorrepacheco.es/eventos/encuentros-para-padres/
CATEGORIES:Destacados,Eventos
ATTACH;FMTTYPE=image/jpeg:https://parroquiatorrepacheco.es/wp-content/uploads/2025/11/251130-Imagen-portada.jpg
END:VEVENT
BEGIN:VEVENT
DTSTART;TZID=UTC:20260127T220000
DTEND;TZID=UTC:20260127T230000
DTSTAMP:20260425T013502
CREATED:20260120T175519Z
LAST-MODIFIED:20260120T175607Z
UID:5895-1769551200-1769554800@parroquiatorrepacheco.es
SUMMARY:Encuentro Tabor
DESCRIPTION:La vida se convierte en una oportunidad para caminar. La vida es un camino. Tu vida es un camino. ¿Hacia dónde te lleva?
URL:https://parroquiatorrepacheco.es/eventos/encuentro-tabor/
CATEGORIES:Destacados,Eventos
ATTACH;FMTTYPE=image/jpeg:https://parroquiatorrepacheco.es/wp-content/uploads/2026/01/260125-Encuentro-Tabor.jpg
END:VEVENT
BEGIN:VEVENT
DTSTART;TZID=UTC:20260130T080000
DTEND;TZID=UTC:20260201T170000
DTSTAMP:20260425T013502
CREATED:20250918T141430Z
LAST-MODIFIED:20250918T141639Z
UID:5562-1769760000-1769965200@parroquiatorrepacheco.es
SUMMARY:V Encuentro cuatro40
DESCRIPTION:Volvemos a ofrecer un nuevo Encuentro cuatro40 para toda la parroquia. Este es un encuentro para todos aquellos que buscan un nuevo sentido a sus vidas o simplemente para aquellos que son valientes y viven abiertos a que algo nuevo pueda brotar en sus propias vidas. \n\n\n\n \n\n\n\n\nMás información
URL:https://parroquiatorrepacheco.es/eventos/v-encuentro-cuatro40/
CATEGORIES:Destacados,Eventos
ATTACH;FMTTYPE=image/jpeg:https://parroquiatorrepacheco.es/wp-content/uploads/2025/09/cuatro40-eventos.jpg
END:VEVENT
END:VCALENDAR