BEGIN:VCALENDAR
VERSION:2.0
PRODID:-//Parroquia Nuestra Señora del Rosario - ECPv6.15.20//NONSGML v1.0//EN
CALSCALE:GREGORIAN
METHOD:PUBLISH
X-WR-CALNAME:Parroquia Nuestra Señora del Rosario
X-ORIGINAL-URL:https://parroquiatorrepacheco.es
X-WR-CALDESC:Eventos para Parroquia Nuestra Señora del Rosario
REFRESH-INTERVAL;VALUE=DURATION:PT1H
X-Robots-Tag:noindex
X-PUBLISHED-TTL:PT1H
BEGIN:VTIMEZONE
TZID:UTC
BEGIN:STANDARD
TZOFFSETFROM:+0000
TZOFFSETTO:+0000
TZNAME:UTC
DTSTART:20240101T000000
END:STANDARD
END:VTIMEZONE
BEGIN:VEVENT
DTSTART;TZID=UTC:20251216T220000
DTEND;TZID=UTC:20251216T230000
DTSTAMP:20260424T221839
CREATED:20251105T170737Z
LAST-MODIFIED:20251215T130739Z
UID:5716-1765922400-1765926000@parroquiatorrepacheco.es
SUMMARY:Encuentros Tabor. Señor\, ten piedad
DESCRIPTION:El Señor te invita a subir\, de nuevo\, con Él al Tabor. Es el lugar de la misericordia\, donde se muestra tal cual es y donde quiere también transfigurar tu vida\, llenarla de luz\, de vida\, de esperanza. \n\n\n\n \n\n\n\n¿Aceptas su invitación?
URL:https://parroquiatorrepacheco.es/eventos/encuentros-tabor-2/
CATEGORIES:Destacados,Eventos
ATTACH;FMTTYPE=image/jpeg:https://parroquiatorrepacheco.es/wp-content/uploads/2025/11/251216-Tabor-de-intercesion.jpg
END:VEVENT
BEGIN:VEVENT
DTSTART;TZID=UTC:20250920T210000
DTEND;TZID=UTC:20250920T223000
DTSTAMP:20260424T221839
CREATED:20250918T112841Z
LAST-MODIFIED:20250918T112843Z
UID:5548-1758402000-1758407400@parroquiatorrepacheco.es
SUMMARY:Encuentros Proyecto Amor Conyugal
DESCRIPTION:
URL:https://parroquiatorrepacheco.es/eventos/encuentros-proyecto-amor-conyugal/
CATEGORIES:Destacados,Eventos
ATTACH;FMTTYPE=image/jpeg:https://parroquiatorrepacheco.es/wp-content/uploads/2022/12/Proyecto-AC.jpg
END:VEVENT
END:VCALENDAR