BEGIN:VCALENDAR
VERSION:2.0
PRODID:-//Parroquia Nuestra Señora del Rosario - ECPv6.15.20//NONSGML v1.0//EN
CALSCALE:GREGORIAN
METHOD:PUBLISH
X-WR-CALNAME:Parroquia Nuestra Señora del Rosario
X-ORIGINAL-URL:https://parroquiatorrepacheco.es
X-WR-CALDESC:Eventos para Parroquia Nuestra Señora del Rosario
REFRESH-INTERVAL;VALUE=DURATION:PT1H
X-Robots-Tag:noindex
X-PUBLISHED-TTL:PT1H
BEGIN:VTIMEZONE
TZID:UTC
BEGIN:STANDARD
TZOFFSETFROM:+0000
TZOFFSETTO:+0000
TZNAME:UTC
DTSTART:20240101T000000
END:STANDARD
END:VTIMEZONE
BEGIN:VEVENT
DTSTART;TZID=UTC:20250328T100000
DTEND;TZID=UTC:20250328T103000
DTSTAMP:20260425T141539
CREATED:20250228T190701Z
LAST-MODIFIED:20250228T191501Z
UID:5115-1743156000-1743157800@parroquiatorrepacheco.es
SUMMARY:Viernes Cuaresmales. Sesión IV: Amor que da de beber
DESCRIPTION:Los Viernes Cuaresmales son meditaciones que nos ayudan a profundizar en nuestro encuentro con el Señor. Durante esta cuaresma los realizaremos en torno a exposición y meditación de la Encíclica DILEXIT NOS\, sobre el Corazón de Jesús. \nCada viernes se nos ofrecerá profundizar en un capítulos distinto del documento del Papa Francisco. \n  \nDescargar la Encíclica\n  \nCUARTA SESIÓN: AMOR QUE DA DE BEBER
URL:https://parroquiatorrepacheco.es/eventos/viernes-cuaresmales-sesion-iv-amor-que-da-de-beber/
LOCATION:Parroquia Ntra. del Rosario\, Plaza de la Iglesia\, s/n\, Torre Pacheco\, 30700\, España
CATEGORIES:Destacados,Eventos
ATTACH;FMTTYPE=image/jpeg:https://parroquiatorrepacheco.es/wp-content/uploads/2025/02/2025-Meditaciones.jpg
ORGANIZER;CN="Parroquia Ntra. Sra. del Rosario":MAILTO:grace@ancorathemes.com
END:VEVENT
END:VCALENDAR