BEGIN:VCALENDAR
VERSION:2.0
PRODID:-//Parroquia Nuestra Señora del Rosario - ECPv6.15.20//NONSGML v1.0//EN
CALSCALE:GREGORIAN
METHOD:PUBLISH
X-WR-CALNAME:Parroquia Nuestra Señora del Rosario
X-ORIGINAL-URL:https://parroquiatorrepacheco.es
X-WR-CALDESC:Eventos para Parroquia Nuestra Señora del Rosario
REFRESH-INTERVAL;VALUE=DURATION:PT1H
X-Robots-Tag:noindex
X-PUBLISHED-TTL:PT1H
BEGIN:VTIMEZONE
TZID:UTC
BEGIN:STANDARD
TZOFFSETFROM:+0000
TZOFFSETTO:+0000
TZNAME:UTC
DTSTART:20240101T000000
END:STANDARD
END:VTIMEZONE
BEGIN:VEVENT
DTSTART;TZID=UTC:20250404T183000
DTEND;TZID=UTC:20250406T183000
DTSTAMP:20260425T124630
CREATED:20250306T100318Z
LAST-MODIFIED:20250306T100318Z
UID:5137-1743791400-1743964200@parroquiatorrepacheco.es
SUMMARY:cuatro40 Adultos
DESCRIPTION:El próximo fin de semana\, de 4 al 6 de abril\, tendrá lugar el IV Encuentro cuatro40 para adultos. \n  \nSi estás interesado en participar pincha aquí\n 
URL:https://parroquiatorrepacheco.es/eventos/cuatro40-adultos/
LOCATION:Casa Franciscanas de la Purísima\, Avenida Salzillo\, 62\, Lo Pagán\, Murcia\, 30740\, España
CATEGORIES:Destacados,Eventos
ATTACH;FMTTYPE=image/jpeg:https://parroquiatorrepacheco.es/wp-content/uploads/2025/03/Cuatro40-abril.jpg
ORGANIZER;CN="Parroquia Ntra. Sra. del Rosario":MAILTO:grace@ancorathemes.com
END:VEVENT
END:VCALENDAR