BEGIN:VCALENDAR
VERSION:2.0
PRODID:-//Parroquia Nuestra Señora del Rosario - ECPv6.15.20//NONSGML v1.0//EN
CALSCALE:GREGORIAN
METHOD:PUBLISH
X-ORIGINAL-URL:https://parroquiatorrepacheco.es
X-WR-CALDESC:Eventos para Parroquia Nuestra Señora del Rosario
REFRESH-INTERVAL;VALUE=DURATION:PT1H
X-Robots-Tag:noindex
X-PUBLISHED-TTL:PT1H
BEGIN:VTIMEZONE
TZID:UTC
BEGIN:STANDARD
TZOFFSETFROM:+0000
TZOFFSETTO:+0000
TZNAME:UTC
DTSTART:20250101T000000
END:STANDARD
END:VTIMEZONE
BEGIN:VEVENT
DTSTART;TZID=UTC:20260413T080000
DTEND;TZID=UTC:20260418T170000
DTSTAMP:20260424T222146
CREATED:20251113T152331Z
LAST-MODIFIED:20251129T145118Z
UID:5786-1776067200-1776531600@parroquiatorrepacheco.es
SUMMARY:Peregrinación a Medjugorje
DESCRIPTION:Lanzamos para la próxima primavera una Peregrinación a Medjugorje (Bosnia y Herzegovina). Junto con la parroquia de Santiago el Mayor de Totana ofrecemos esta peregrinación al Santuario Mariano de Medjugorje. La peregrinación será del 13 al 18 de abril de 2026. Si deseas participar puedes reservar tu plaza rellenando el formulario que encontrarás más abajo. \n\n\n\nSituado en las verdes colinas de Bosnia-Herzegovina\, Medjugorje se ha convertido en uno de los lugares de peregrinación más famosos y visitados del mundo. \n\n\n\n Desde las supuestas apariciones de la Virgen María en 1981\, este pequeño pueblo se ha convertido en un lugar de encuentro para millones de peregrinos de todas las nacionalidades y confesiones. \n\n\n\nLas apariciones de Medjugorje comenzaron el 24 de junio de 1981\, cuando seis niños afirmaron haber visto a la Virgen María en la colina de Crnica. Desde entonces\, estas apariciones han continuado\, al parecer\, atrayendo a peregrinos en busca de fe\, curación y espiritualidad. Los mensajes atribuidos a la Virgen María en Medjugorje hacen hincapié en la oración\, la conversión\, el ayuno\, la confesión y la paz. \n\n\n\nCon el paso de los años\, Medjugorje se ha convertido en un vibrante centro espiritual\, con numerosas iglesias\, capillas y centros de oración erigidos para acoger a los peregrinos. La Colina de las Apariciones\, donde tuvieron lugar las primeras apariciones\, es un lugar de devoción y oración\, donde los peregrinos acuden a menudo para meditar\, rezar y encender velas. \n\n\n\nLos testimonios de conversiones\, curaciones físicas y espirituales\, así como gracias recibidas en Medjugorje son numerosos. Muchos dicen haber experimentado una profunda paz interior\, una transformación espiritual y una renovada cercanía a Dios durante su visita. \n\n\n\nSin embargo\, es importante señalar que la Iglesia católica aún no ha reconocido oficialmente que las apariciones de Medjugorje tengan un origen sobrenatural. A pesar de ello\, muchos obispos\, sacerdotes y fieles siguen animando a peregrinar a Medjugorje por los frutos espirituales observados. \n\n\n\nEn conclusión\, Medjugorje sigue siendo un lugar emblemático de peregrinación al que millones de personas acuden en busca de consuelo\, curación y renovación espiritual. Se crea o no en las apariciones\, es innegable que este lugar ha conmovido y transformado la vida de muchos peregrinos en todo el mundo. \n\n\n\nPrecio de la Peregrinación: 1150€ (suplemente de habitación individual 235€) \n\n\n\nDescargar Itinerario de la peregrinación \n\n\n\n\n\n\n\n\nPor favor\, activa JavaScript en tu navegador para completar este formulario.Nombre *NombreApellidosCasillas de verificaciónSoy de la parroquia de Torre PachecoNo soy de la parroquia de Torre PachecoTeléfono *Correo electrónicoObservacionesEnviar
URL:https://parroquiatorrepacheco.es/eventos/peregrinacion-a-medjugorje/
CATEGORIES:Destacados,Eventos
ATTACH;FMTTYPE=image/jpeg:https://parroquiatorrepacheco.es/wp-content/uploads/2025/11/imagen.jpg
END:VEVENT
END:VCALENDAR