BEGIN:VCALENDAR
VERSION:2.0
PRODID:-//Parroquia Nuestra Señora del Rosario - ECPv6.15.20//NONSGML v1.0//EN
CALSCALE:GREGORIAN
METHOD:PUBLISH
X-ORIGINAL-URL:https://parroquiatorrepacheco.es
X-WR-CALDESC:Eventos para Parroquia Nuestra Señora del Rosario
REFRESH-INTERVAL;VALUE=DURATION:PT1H
X-Robots-Tag:noindex
X-PUBLISHED-TTL:PT1H
BEGIN:VTIMEZONE
TZID:UTC
BEGIN:STANDARD
TZOFFSETFROM:+0000
TZOFFSETTO:+0000
TZNAME:UTC
DTSTART:20240101T000000
END:STANDARD
END:VTIMEZONE
BEGIN:VEVENT
DTSTART;TZID=UTC:20251031T210000
DTEND;TZID=UTC:20251031T213000
DTSTAMP:20260424T155638
CREATED:20250918T103956Z
LAST-MODIFIED:20250918T103958Z
UID:5496-1761944400-1761946200@parroquiatorrepacheco.es
SUMMARY:Coordinadora Sector de Jóvenes
DESCRIPTION:
URL:https://parroquiatorrepacheco.es/eventos/coordinadora-sector-de-jovenes/
CATEGORIES:Eventos
END:VEVENT
END:VCALENDAR