BEGIN:VCALENDAR
VERSION:2.0
PRODID:-//Parroquia Nuestra Señora del Rosario - ECPv6.15.20//NONSGML v1.0//EN
CALSCALE:GREGORIAN
METHOD:PUBLISH
X-ORIGINAL-URL:https://parroquiatorrepacheco.es
X-WR-CALDESC:Eventos para Parroquia Nuestra Señora del Rosario
REFRESH-INTERVAL;VALUE=DURATION:PT1H
X-Robots-Tag:noindex
X-PUBLISHED-TTL:PT1H
BEGIN:VTIMEZONE
TZID:UTC
BEGIN:STANDARD
TZOFFSETFROM:+0000
TZOFFSETTO:+0000
TZNAME:UTC
DTSTART:20220101T000000
END:STANDARD
END:VTIMEZONE
BEGIN:VEVENT
DTSTART;TZID=UTC:20231102T210000
DTEND;TZID=UTC:20240210T170000
DTSTAMP:20260426T040658
CREATED:20231019T114232Z
LAST-MODIFIED:20231019T114725Z
UID:4432-1698958800-1707584400@parroquiatorrepacheco.es
SUMMARY:Confirmación de adultos
DESCRIPTION:El Jueves 2 de noviembre\, a las 21h\, comenzamos las catequesis de adultos para recibir el Sacramento de la Confirmación\n¡¡TE ESPERAMOS!!\n 
URL:https://parroquiatorrepacheco.es/eventos/confirmacion-de-adultos/
LOCATION:Parroquia Ntra. del Rosario\, Plaza de la Iglesia\, s/n\, Torre Pacheco\, 30700\, España
CATEGORIES:Destacados,Eventos
ATTACH;FMTTYPE=image/jpeg:https://parroquiatorrepacheco.es/wp-content/uploads/2023/10/Confirmacion-de-adultos.jpg
ORGANIZER;CN="Parroquia Ntra. Sra. del Rosario":MAILTO:grace@ancorathemes.com
END:VEVENT
BEGIN:VEVENT
DTSTART;TZID=UTC:20240201T173000
DTEND;TZID=UTC:20240201T183000
DTSTAMP:20260426T040658
CREATED:20230910T170340Z
LAST-MODIFIED:20230910T170340Z
UID:4157-1706808600-1706812200@parroquiatorrepacheco.es
SUMMARY:Catequesis Infantil. Primer Curso
DESCRIPTION:
URL:https://parroquiatorrepacheco.es/eventos/catequesis-infantil-primer-curso-16/
LOCATION:Salones parroquiales
CATEGORIES:Eventos
ORGANIZER;CN="Parroquia Ntra. Sra. del Rosario":MAILTO:grace@ancorathemes.com
END:VEVENT
BEGIN:VEVENT
DTSTART;TZID=UTC:20240202T190000
DTEND;TZID=UTC:20240204T190000
DTSTAMP:20260426T040658
CREATED:20231012T174717Z
LAST-MODIFIED:20231019T150908Z
UID:4343-1706900400-1707073200@parroquiatorrepacheco.es
SUMMARY:Encuentro Cuatro40
DESCRIPTION:Por primera vez en la Diócesis de Cartagena se va realizar un Encuentro Cuatro40. Una experiencia de encuentro con el Señor que Acción Católica General pone en marcha con el objetivo de seguir ofreciendo a nuestras parroquias oportunidades para la transformación y para ayudarlas a ser parroquias misioneras donde el centro de su actividad sea en Encuentro con el Señor. \n  \n \n  \nEste ENCUENTRO está pensado para ti que necesitas revitalizar tu fe\, que necesitas una experiencia que vuelva a avivar en ti el fuego del Espíritu Santo\, que andas un poco perdido y buscas sentido a la vida. Para ti que\, simplemente lo has leído o escuchado\, y algo en ti se ha movido. ¡Haz caso a eso que has sentido y seguro que no te arrepentirás! \n  \nDel viernes 2 de febrero al domingo 4 de febrero\, de 2024\n  \n \n  \nPrecio por participante: 150€\n  \nAl ser el primer Encuentro Cuatro40 que hacemos en Torre Pacheco las plazas son limitadas (30plazas) por ello\, no te lo pienses mucho y reserva la tuya y espera confirmación. Para hacerlo es necesario: \n\nRellenar el formulario que encontrarás más abajo.\nPuedes hacer el pago total o reservar plaza.\nReservar de plaza: Hacer el pago de 50€\, antes del 30 noviembre\, y entregar el justificante en el despacho o enviarlo por email: prosariotorrepacheco@diocesisdecartagena.org\nEl segundo pago debes de realizarlo antes del 31 de diciembre\, y entregar el justificante en el despacho o enviarlo por email.\n\nNº de cuenta: ES7830580228232720006003            BIZUM: 07390 \nCONCEPTO DEL INGRESO: Cuatro40 + nombre \n  \nPor favor\, activa JavaScript en tu navegador para completar este formulario.Nombre *NombreApellidosDiseñoTeléfonoEmail *Participas en alguna actividad parroquial *SINOEdad *Parroquia a la que pertenecesSi participas ¿en qué?DiseñoPersona de contacto *TeléfonoObservacionesEnviar  \n  \n 
URL:https://parroquiatorrepacheco.es/eventos/encuentro-cuatro40/
LOCATION:Casa Franciscanas de la Purísima\, Avenida Salzillo\, 62\, Lo Pagán\, Murcia\, 30740\, España
CATEGORIES:Destacados,Eventos
ATTACH;FMTTYPE=image/jpeg:https://parroquiatorrepacheco.es/wp-content/uploads/2023/10/Cuatro40.jpg
END:VEVENT
BEGIN:VEVENT
DTSTART;TZID=UTC:20240202T190000
DTEND;TZID=UTC:20240204T190000
DTSTAMP:20260426T040658
CREATED:20240128T092932Z
LAST-MODIFIED:20240201T083607Z
UID:4525-1706900400-1707073200@parroquiatorrepacheco.es
SUMMARY:Oración por el Cuatro40
DESCRIPTION:¡¡COMENZAMOS ALGO NUEVO!!\nPor primera vez en la Diócesis de Cartagena\, y más concretamente en nuestra parroquia de Torre Pacheco\, se va realizar un Encuentro Cuatro40. Una experiencia de encuentro con el Señor que Acción Católica General pone en marcha con el objetivo de seguir ofreciendo a nuestras parroquias oportunidades para la transformación y para ayudarlas a ser parroquias misioneras donde el centro de su actividad sea en Encuentro con el Señor. \n  \n \n  \nUna de las claves para el Encuentro personal con Cristo es la ORACIÓN. Oración de aquellos que quieren vivir este encuentro pero\, también\, oración de intercesión de otros por ellos\, para que el Espíritu Santo les inunde y transforme. Es por ello\, que como miembro de la parroquia se te pide que reces por todos estos hermanos que van a vivir esta experiencia. \n  \n \n  \n  \nDel viernes 2 de febrero al domingo 4 de febrero\, de 2024\n \n  \n \n 
URL:https://parroquiatorrepacheco.es/eventos/oracion-por-el-cuatro40/
LOCATION:Casa Franciscanas de la Purísima\, Avenida Salzillo\, 62\, Lo Pagán\, Murcia\, 30740\, España
CATEGORIES:Destacados,Eventos
ATTACH;FMTTYPE=image/jpeg:https://parroquiatorrepacheco.es/wp-content/uploads/2023/10/Cuatro40.jpg
ORGANIZER;CN="Parroquia Ntra. Sra. del Rosario":MAILTO:grace@ancorathemes.com
END:VEVENT
BEGIN:VEVENT
DTSTART;TZID=UTC:20240206T173000
DTEND;TZID=UTC:20240206T183000
DTSTAMP:20260426T040658
CREATED:20230910T173347Z
LAST-MODIFIED:20230910T173347Z
UID:4221-1707240600-1707244200@parroquiatorrepacheco.es
SUMMARY:Catequesis infantil. Segundo curso
DESCRIPTION:
URL:https://parroquiatorrepacheco.es/eventos/catequesis-infantil-segundo-curso-16/
LOCATION:Salones parroquiales
CATEGORIES:Eventos
ORGANIZER;CN="Parroquia Ntra. Sra. del Rosario":MAILTO:grace@ancorathemes.com
END:VEVENT
BEGIN:VEVENT
DTSTART;TZID=UTC:20240208T173000
DTEND;TZID=UTC:20240208T183000
DTSTAMP:20260426T040659
CREATED:20230910T170416Z
LAST-MODIFIED:20230910T170416Z
UID:4159-1707413400-1707417000@parroquiatorrepacheco.es
SUMMARY:Catequesis Infantil. Primer Curso
DESCRIPTION:
URL:https://parroquiatorrepacheco.es/eventos/catequesis-infantil-primer-curso-17/
LOCATION:Salones parroquiales
CATEGORIES:Eventos
ORGANIZER;CN="Parroquia Ntra. Sra. del Rosario":MAILTO:grace@ancorathemes.com
END:VEVENT
BEGIN:VEVENT
DTSTART;TZID=UTC:20240212T170000
DTEND;TZID=UTC:20240212T180000
DTSTAMP:20260426T040659
CREATED:20230910T184140Z
LAST-MODIFIED:20230910T184140Z
UID:4268-1707757200-1707760800@parroquiatorrepacheco.es
SUMMARY:Reunión Pastoral de Enfermos
DESCRIPTION:
URL:https://parroquiatorrepacheco.es/eventos/reunion-pastoral-de-enfermos-14/
LOCATION:Salones parroquiales
CATEGORIES:Eventos
ATTACH;FMTTYPE=image/jpeg:https://parroquiatorrepacheco.es/wp-content/uploads/2023/09/logo-Pastoral-de-Enfermos.jpg
ORGANIZER;CN="Parroquia Ntra. Sra. del Rosario":MAILTO:grace@ancorathemes.com
END:VEVENT
BEGIN:VEVENT
DTSTART;TZID=UTC:20240213T173000
DTEND;TZID=UTC:20240213T183000
DTSTAMP:20260426T040659
CREATED:20230910T173601Z
LAST-MODIFIED:20230910T173601Z
UID:4225-1707845400-1707849000@parroquiatorrepacheco.es
SUMMARY:Catequesis infantil. Segundo curso
DESCRIPTION:
URL:https://parroquiatorrepacheco.es/eventos/catequesis-infantil-segundo-curso-18/
LOCATION:Salones parroquiales
CATEGORIES:Eventos
ORGANIZER;CN="Parroquia Ntra. Sra. del Rosario":MAILTO:grace@ancorathemes.com
END:VEVENT
BEGIN:VEVENT
DTSTART;TZID=UTC:20240215T173000
DTEND;TZID=UTC:20240215T183000
DTSTAMP:20260426T040659
CREATED:20230910T170459Z
LAST-MODIFIED:20230910T170459Z
UID:4161-1708018200-1708021800@parroquiatorrepacheco.es
SUMMARY:Catequesis Infantil. Primer Curso
DESCRIPTION:
URL:https://parroquiatorrepacheco.es/eventos/catequesis-infantil-primer-curso-18/
LOCATION:Salones parroquiales
CATEGORIES:Eventos
ORGANIZER;CN="Parroquia Ntra. Sra. del Rosario":MAILTO:grace@ancorathemes.com
END:VEVENT
BEGIN:VEVENT
DTSTART;TZID=UTC:20240216T100000
DTEND;TZID=UTC:20240216T170000
DTSTAMP:20260426T040659
CREATED:20230910T191243Z
LAST-MODIFIED:20230910T191243Z
UID:4286-1708077600-1708102800@parroquiatorrepacheco.es
SUMMARY:Reunión Coordinación de Cáritas
DESCRIPTION:
URL:https://parroquiatorrepacheco.es/eventos/reunion-coordinacion-de-caritas-5/
LOCATION:Salones parroquiales
CATEGORIES:Eventos
ORGANIZER;CN="Parroquia Ntra. Sra. del Rosario":MAILTO:grace@ancorathemes.com
END:VEVENT
BEGIN:VEVENT
DTSTART;TZID=UTC:20240220T173000
DTEND;TZID=UTC:20240220T183000
DTSTAMP:20260426T040659
CREATED:20230910T173649Z
LAST-MODIFIED:20230910T173649Z
UID:4227-1708450200-1708453800@parroquiatorrepacheco.es
SUMMARY:Catequesis infantil. Segundo curso
DESCRIPTION:
URL:https://parroquiatorrepacheco.es/eventos/catequesis-infantil-segundo-curso-19/
LOCATION:Salones parroquiales
CATEGORIES:Eventos
ORGANIZER;CN="Parroquia Ntra. Sra. del Rosario":MAILTO:grace@ancorathemes.com
END:VEVENT
BEGIN:VEVENT
DTSTART;TZID=UTC:20240222T173000
DTEND;TZID=UTC:20240222T183000
DTSTAMP:20260426T040659
CREATED:20230910T170545Z
LAST-MODIFIED:20230910T170545Z
UID:4163-1708623000-1708626600@parroquiatorrepacheco.es
SUMMARY:Catequesis Infantil. Primer Curso
DESCRIPTION:
URL:https://parroquiatorrepacheco.es/eventos/catequesis-infantil-primer-curso-19/
LOCATION:Salones parroquiales
CATEGORIES:Eventos
ORGANIZER;CN="Parroquia Ntra. Sra. del Rosario":MAILTO:grace@ancorathemes.com
END:VEVENT
BEGIN:VEVENT
DTSTART;TZID=UTC:20240223T080000
DTEND;TZID=UTC:20240223T170000
DTSTAMP:20260426T040659
CREATED:20240223T130057Z
LAST-MODIFIED:20240223T130057Z
UID:4607-1708675200-1708707600@parroquiatorrepacheco.es
SUMMARY:Semana de la familia
DESCRIPTION: 
URL:https://parroquiatorrepacheco.es/eventos/semana-de-la-familia/
CATEGORIES:Destacados,Eventos
ATTACH;FMTTYPE=image/jpeg:https://parroquiatorrepacheco.es/wp-content/uploads/2024/02/Semana-de-la-familia.jpg
END:VEVENT
BEGIN:VEVENT
DTSTART;TZID=UTC:20240226T203000
DTEND;TZID=UTC:20240226T213000
DTSTAMP:20260426T040659
CREATED:20231026T175802Z
LAST-MODIFIED:20231026T175802Z
UID:4467-1708979400-1708983000@parroquiatorrepacheco.es
SUMMARY:Reunión Equipo de Evangelización
DESCRIPTION:Convocatoria del Equipo de Evangelización y Conversión Pastoral de la parroquia
URL:https://parroquiatorrepacheco.es/eventos/reunion-equipo-de-evangelizacion-5/
LOCATION:Parroquia Ntra. del Rosario\, Plaza de la Iglesia\, s/n\, Torre Pacheco\, 30700\, España
CATEGORIES:Destacados,Eventos
ATTACH;FMTTYPE=image/jpeg:https://parroquiatorrepacheco.es/wp-content/uploads/2023/10/Equipo-de-evangelizacion.jpg
ORGANIZER;CN="Parroquia Ntra. Sra. del Rosario":MAILTO:grace@ancorathemes.com
END:VEVENT
BEGIN:VEVENT
DTSTART;TZID=UTC:20240227T173000
DTEND;TZID=UTC:20240227T183000
DTSTAMP:20260426T040659
CREATED:20230910T173735Z
LAST-MODIFIED:20230910T173735Z
UID:4229-1709055000-1709058600@parroquiatorrepacheco.es
SUMMARY:Catequesis infantil. Segundo curso
DESCRIPTION:
URL:https://parroquiatorrepacheco.es/eventos/catequesis-infantil-segundo-curso-20/
LOCATION:Salones parroquiales
CATEGORIES:Eventos
ORGANIZER;CN="Parroquia Ntra. Sra. del Rosario":MAILTO:grace@ancorathemes.com
END:VEVENT
BEGIN:VEVENT
DTSTART;TZID=UTC:20240227T200000
DTEND;TZID=UTC:20240227T210000
DTSTAMP:20260426T040659
CREATED:20240130T105631Z
LAST-MODIFIED:20240223T130932Z
UID:4530-1709064000-1709067600@parroquiatorrepacheco.es
SUMMARY:Charla: Comunicación saludable
DESCRIPTION:Todos somos conscientes de la necesidad de aprender a mantener una comunicación saludable con los demás\, entendiendo por esta\, entre otras muchas definiciones\, “la capacidad de mantener una interacción con los demás\, basada en la empatía y en la coherencia con uno mismo”. Todavía somos más coincidentes en la necesidad de educar a nuestros niños y jóvenes en esta necesidad de una comunicación sana\, que genere lazos fraternos y corresponsables. \nEs preocupante ver como las redes sociales\, en muchas ocasiones\, sirven más bien de contrapunto a esta sana educación\, en la que debemos acompañar el crecimiento de nuestros niños. Es por ello\, que no debemos mirar para otro lado sino que hemos de abrir espacios de diálogo y reflexión\, que nos ayuden a pensar nuevos caminos basados en el uso correcto de la tecnología\, que siempre ha de servir para unirnos y nunca para separarnos. \nPor ello\, desde la parroquia hemos organizado esta sesión formativa titulada: \nCOMUNICACIÓN SALUDABLE\, es exceso de información en los hijos.\n  \nFormación impartida por Dña. Ana Paños Martínez\, Psicóloga General Sanitaria\, colaboradora de nuestra Cáritas Parroquial\, con una amplía trayectoria profesional en el tratamiento de estos asuntos. \n  \n¡¡No te la pierdas!!\n 
URL:https://parroquiatorrepacheco.es/eventos/charla-comunicacion-saludable/
LOCATION:Salón Parroquial\, Plaza Párroco D. Pedro\, Torre Pacheco\, Murcia\, 30700\, España
CATEGORIES:Destacados,Eventos
ATTACH;FMTTYPE=image/jpeg:https://parroquiatorrepacheco.es/wp-content/uploads/2024/01/Comunicacion-saludable.jpg
ORGANIZER;CN="Parroquia Ntra. Sra. del Rosario":MAILTO:grace@ancorathemes.com
END:VEVENT
BEGIN:VEVENT
DTSTART;TZID=UTC:20240229T173000
DTEND;TZID=UTC:20240229T183000
DTSTAMP:20260426T040659
CREATED:20230910T170619Z
LAST-MODIFIED:20230910T170619Z
UID:4165-1709227800-1709231400@parroquiatorrepacheco.es
SUMMARY:Catequesis Infantil. Primer Curso
DESCRIPTION:
URL:https://parroquiatorrepacheco.es/eventos/catequesis-infantil-primer-curso-20/
LOCATION:Salones parroquiales
CATEGORIES:Eventos
ORGANIZER;CN="Parroquia Ntra. Sra. del Rosario":MAILTO:grace@ancorathemes.com
END:VEVENT
END:VCALENDAR