BEGIN:VCALENDAR
VERSION:2.0
PRODID:-//Parroquia Nuestra Señora del Rosario - ECPv6.15.20//NONSGML v1.0//EN
CALSCALE:GREGORIAN
METHOD:PUBLISH
X-ORIGINAL-URL:https://parroquiatorrepacheco.es
X-WR-CALDESC:Eventos para Parroquia Nuestra Señora del Rosario
REFRESH-INTERVAL;VALUE=DURATION:PT1H
X-Robots-Tag:noindex
X-PUBLISHED-TTL:PT1H
BEGIN:VTIMEZONE
TZID:UTC
BEGIN:STANDARD
TZOFFSETFROM:+0000
TZOFFSETTO:+0000
TZNAME:UTC
DTSTART:20230101T000000
END:STANDARD
END:VTIMEZONE
BEGIN:VEVENT
DTSTART;TZID=UTC:20240402T173000
DTEND;TZID=UTC:20240402T183000
DTSTAMP:20260425T231220
CREATED:20230910T174015Z
LAST-MODIFIED:20230910T174015Z
UID:4235-1712079000-1712082600@parroquiatorrepacheco.es
SUMMARY:Catequesis infantil. Segundo curso
DESCRIPTION:
URL:https://parroquiatorrepacheco.es/eventos/catequesis-infantil-segundo-curso-23/
LOCATION:Salones parroquiales
CATEGORIES:Eventos
ORGANIZER;CN="Parroquia Ntra. Sra. del Rosario":MAILTO:grace@ancorathemes.com
END:VEVENT
BEGIN:VEVENT
DTSTART;TZID=UTC:20240408T170000
DTEND;TZID=UTC:20240408T180000
DTSTAMP:20260425T231220
CREATED:20230910T184339Z
LAST-MODIFIED:20230910T184339Z
UID:4272-1712595600-1712599200@parroquiatorrepacheco.es
SUMMARY:Reunión Pastoral de Enfermos
DESCRIPTION:
URL:https://parroquiatorrepacheco.es/eventos/reunion-pastoral-de-enfermos-16/
LOCATION:Salones parroquiales
CATEGORIES:Eventos
ATTACH;FMTTYPE=image/jpeg:https://parroquiatorrepacheco.es/wp-content/uploads/2023/09/logo-Pastoral-de-Enfermos.jpg
ORGANIZER;CN="Parroquia Ntra. Sra. del Rosario":MAILTO:grace@ancorathemes.com
END:VEVENT
BEGIN:VEVENT
DTSTART;TZID=UTC:20240408T203000
DTEND;TZID=UTC:20240408T213000
DTSTAMP:20260425T231220
CREATED:20231129T185124Z
LAST-MODIFIED:20231129T190302Z
UID:4504-1712608200-1712611800@parroquiatorrepacheco.es
SUMMARY:Tertulias sobre la Acción Católica General
DESCRIPTION:¿Qué es la Acción Católica General?\n  \nEn nuestra parroquia\, desde el curso p \nasado\, estamos siguiendo el proyecto de Acción Católica General. Es cierto que nos hemos ido formando sobre la metodología y los recursos propios de este proyecto. Pero\, ahora es el momento de comenzar a profundizar en el fundamento de esta asociación de la Iglesia y en qué puede aportarnos de manera personal y comunitaria en la vivencia de la fe. \nSe nos presentó la Acción Católica General como aquella respuesta que la misma Iglesia ofrecía a las parroquias para formar “discípulos misioneros” y\, después de gustar los materiales\, las reuniones en los Equipos de Vida\, quizá ha llegado el momento de que te preguntes\, de manera personal\, ¿qué me aporta la ACG? \nPara que podamos profundizar juntos en todas las cuestiones que nos permitan conocer más esta realidad y\, quien sabe\, discernir una posible llamada del Señor a pertenecer a esta asociación\, hemos organizado estas tertulias. Momentos de encuentro fraterno donde compartir\, conocer\, preguntar y descubrir. \n  \n¡TE ESPERAMOS!\n  \n\n 
URL:https://parroquiatorrepacheco.es/eventos/tertulias-sobre-la-accion-catolica-general-4/
LOCATION:Parroquia Ntra. del Rosario\, Plaza de la Iglesia\, s/n\, Torre Pacheco\, 30700\, España
CATEGORIES:Destacados,Eventos
ATTACH;FMTTYPE=image/jpeg:https://parroquiatorrepacheco.es/wp-content/uploads/2023/11/2023-Tertulias-ACG.jpg
ORGANIZER;CN="Parroquia Ntra. Sra. del Rosario":MAILTO:grace@ancorathemes.com
END:VEVENT
BEGIN:VEVENT
DTSTART;TZID=UTC:20240409T173000
DTEND;TZID=UTC:20240409T183000
DTSTAMP:20260425T231220
CREATED:20230910T174051Z
LAST-MODIFIED:20230910T174051Z
UID:4237-1712683800-1712687400@parroquiatorrepacheco.es
SUMMARY:Catequesis infantil. Segundo curso
DESCRIPTION:
URL:https://parroquiatorrepacheco.es/eventos/catequesis-infantil-segundo-curso-24/
LOCATION:Salones parroquiales
CATEGORIES:Eventos
ORGANIZER;CN="Parroquia Ntra. Sra. del Rosario":MAILTO:grace@ancorathemes.com
END:VEVENT
BEGIN:VEVENT
DTSTART;TZID=UTC:20240411T173000
DTEND;TZID=UTC:20240411T183000
DTSTAMP:20260425T231220
CREATED:20230910T170920Z
LAST-MODIFIED:20230910T170920Z
UID:4173-1712856600-1712860200@parroquiatorrepacheco.es
SUMMARY:Catequesis Infantil. Primer Curso
DESCRIPTION:
URL:https://parroquiatorrepacheco.es/eventos/catequesis-infantil-primer-curso-24/
LOCATION:Salones parroquiales
CATEGORIES:Eventos
ORGANIZER;CN="Parroquia Ntra. Sra. del Rosario":MAILTO:grace@ancorathemes.com
END:VEVENT
BEGIN:VEVENT
DTSTART;TZID=UTC:20240416T173000
DTEND;TZID=UTC:20240416T183000
DTSTAMP:20260425T231220
CREATED:20230910T174134Z
LAST-MODIFIED:20230910T174134Z
UID:4239-1713288600-1713292200@parroquiatorrepacheco.es
SUMMARY:Catequesis infantil. Segundo curso
DESCRIPTION:
URL:https://parroquiatorrepacheco.es/eventos/catequesis-infantil-segundo-curso-25/
LOCATION:Salones parroquiales
CATEGORIES:Eventos
ORGANIZER;CN="Parroquia Ntra. Sra. del Rosario":MAILTO:grace@ancorathemes.com
END:VEVENT
BEGIN:VEVENT
DTSTART;TZID=UTC:20240418T173000
DTEND;TZID=UTC:20240418T183000
DTSTAMP:20260425T231220
CREATED:20230910T170954Z
LAST-MODIFIED:20230910T170954Z
UID:4175-1713461400-1713465000@parroquiatorrepacheco.es
SUMMARY:Catequesis Infantil. Primer Curso
DESCRIPTION:
URL:https://parroquiatorrepacheco.es/eventos/catequesis-infantil-primer-curso-25/
LOCATION:Salones parroquiales
CATEGORIES:Eventos
ORGANIZER;CN="Parroquia Ntra. Sra. del Rosario":MAILTO:grace@ancorathemes.com
END:VEVENT
BEGIN:VEVENT
DTSTART;TZID=UTC:20240419T100000
DTEND;TZID=UTC:20240419T170000
DTSTAMP:20260425T231220
CREATED:20230910T191517Z
LAST-MODIFIED:20230910T191517Z
UID:4291-1713520800-1713546000@parroquiatorrepacheco.es
SUMMARY:Reunión Coordinación de Cáritas
DESCRIPTION:
URL:https://parroquiatorrepacheco.es/eventos/reunion-coordinacion-de-caritas-7/
LOCATION:Salones parroquiales
CATEGORIES:Eventos
ORGANIZER;CN="Parroquia Ntra. Sra. del Rosario":MAILTO:grace@ancorathemes.com
END:VEVENT
BEGIN:VEVENT
DTSTART;TZID=UTC:20240423T173000
DTEND;TZID=UTC:20240423T183000
DTSTAMP:20260425T231220
CREATED:20230910T174233Z
LAST-MODIFIED:20230910T174233Z
UID:4241-1713893400-1713897000@parroquiatorrepacheco.es
SUMMARY:Catequesis infantil. Segundo curso
DESCRIPTION:
URL:https://parroquiatorrepacheco.es/eventos/catequesis-infantil-segundo-curso-26/
LOCATION:Salones parroquiales
CATEGORIES:Eventos
ORGANIZER;CN="Parroquia Ntra. Sra. del Rosario":MAILTO:grace@ancorathemes.com
END:VEVENT
BEGIN:VEVENT
DTSTART;TZID=UTC:20240425T173000
DTEND;TZID=UTC:20240425T183000
DTSTAMP:20260425T231220
CREATED:20230910T171033Z
LAST-MODIFIED:20230910T171033Z
UID:4177-1714066200-1714069800@parroquiatorrepacheco.es
SUMMARY:Catequesis Infantil. Primer Curso
DESCRIPTION:
URL:https://parroquiatorrepacheco.es/eventos/catequesis-infantil-primer-curso-26/
LOCATION:Salones parroquiales
CATEGORIES:Eventos
ORGANIZER;CN="Parroquia Ntra. Sra. del Rosario":MAILTO:grace@ancorathemes.com
END:VEVENT
BEGIN:VEVENT
DTSTART;TZID=UTC:20240429T203000
DTEND;TZID=UTC:20240429T213000
DTSTAMP:20260425T231220
CREATED:20231026T180031Z
LAST-MODIFIED:20231026T180031Z
UID:4471-1714422600-1714426200@parroquiatorrepacheco.es
SUMMARY:Reunión Equipo de Evangelización
DESCRIPTION:Convocatoria del Equipo de Evangelización y Conversión Pastoral de la parroquia
URL:https://parroquiatorrepacheco.es/eventos/reunion-equipo-de-evangelizacion-7/
LOCATION:Parroquia Ntra. del Rosario\, Plaza de la Iglesia\, s/n\, Torre Pacheco\, 30700\, España
CATEGORIES:Destacados,Eventos
ATTACH;FMTTYPE=image/jpeg:https://parroquiatorrepacheco.es/wp-content/uploads/2023/10/Equipo-de-evangelizacion.jpg
ORGANIZER;CN="Parroquia Ntra. Sra. del Rosario":MAILTO:grace@ancorathemes.com
END:VEVENT
BEGIN:VEVENT
DTSTART;TZID=UTC:20240430T173000
DTEND;TZID=UTC:20240430T183000
DTSTAMP:20260425T231220
CREATED:20230910T174313Z
LAST-MODIFIED:20230910T174313Z
UID:4243-1714498200-1714501800@parroquiatorrepacheco.es
SUMMARY:Catequesis infantil. Segundo curso
DESCRIPTION:
URL:https://parroquiatorrepacheco.es/eventos/catequesis-infantil-segundo-curso-27/
LOCATION:Salones parroquiales
CATEGORIES:Eventos
ORGANIZER;CN="Parroquia Ntra. Sra. del Rosario":MAILTO:grace@ancorathemes.com
END:VEVENT
END:VCALENDAR