BEGIN:VCALENDAR
VERSION:2.0
PRODID:-//Parroquia Nuestra Señora del Rosario - ECPv6.15.20//NONSGML v1.0//EN
CALSCALE:GREGORIAN
METHOD:PUBLISH
X-ORIGINAL-URL:https://parroquiatorrepacheco.es
X-WR-CALDESC:Eventos para Parroquia Nuestra Señora del Rosario
REFRESH-INTERVAL;VALUE=DURATION:PT1H
X-Robots-Tag:noindex
X-PUBLISHED-TTL:PT1H
BEGIN:VTIMEZONE
TZID:UTC
BEGIN:STANDARD
TZOFFSETFROM:+0000
TZOFFSETTO:+0000
TZNAME:UTC
DTSTART:20240101T000000
END:STANDARD
END:VTIMEZONE
BEGIN:VEVENT
DTSTART;TZID=UTC:20250515T000000
DTEND;TZID=UTC:20250515T000000
DTSTAMP:20260425T031635
CREATED:20250515T105602Z
LAST-MODIFIED:20250916T162203Z
UID:5194-1747267200-1747267200@parroquiatorrepacheco.es
SUMMARY:Inscripción catequesis de Primera Comunión
DESCRIPTION:Con el fin de mejorar la organización de la catequesis de infancia\, este año vamos a llevar a cabo la inscripción antes de irnos de vacaciones. Por lo que os invitamos a realizar la inscripción ahora\, pasando por los salones parroquiales.\n\n \nDIAS PARA PODER INSCRIBIR:\n\n 	DEL MARTES 10 AL JUEVES 12 DE JUNIO\n 	DEL MARTES 17 AL JUEVES 19 DE JUNIO\n\n \nHORARIO: DE 6 a 7 de la tarde\n \nLUGAR: Salones parroquiales\n \n\nToda la información la puedes encontrar pulsando aquí
URL:https://parroquiatorrepacheco.es/eventos/inscripcion-catequesis-de-primera-comunion/
CATEGORIES:Destacados,Eventos
ATTACH;FMTTYPE=image/png:https://parroquiatorrepacheco.es/wp-content/uploads/2025/05/2025-Inscripcion-de-catequesis-1.png
END:VEVENT
END:VCALENDAR