BEGIN:VCALENDAR
VERSION:2.0
PRODID:-//Parroquia Nuestra Señora del Rosario - ECPv6.15.20//NONSGML v1.0//EN
CALSCALE:GREGORIAN
METHOD:PUBLISH
X-WR-CALNAME:Parroquia Nuestra Señora del Rosario
X-ORIGINAL-URL:https://parroquiatorrepacheco.es
X-WR-CALDESC:Eventos para Parroquia Nuestra Señora del Rosario
REFRESH-INTERVAL;VALUE=DURATION:PT1H
X-Robots-Tag:noindex
X-PUBLISHED-TTL:PT1H
BEGIN:VTIMEZONE
TZID:UTC
BEGIN:STANDARD
TZOFFSETFROM:+0000
TZOFFSETTO:+0000
TZNAME:UTC
DTSTART:20240101T000000
END:STANDARD
END:VTIMEZONE
BEGIN:VEVENT
DTSTART;TZID=UTC:20250925T173000
DTEND;TZID=UTC:20250925T183000
DTSTAMP:20260424T221245
CREATED:20250918T102051Z
LAST-MODIFIED:20250918T102053Z
UID:5475-1758821400-1758825000@parroquiatorrepacheco.es
SUMMARY:Catequesis de infancia 1º
DESCRIPTION:
URL:https://parroquiatorrepacheco.es/eventos/catequesis-de-infancia-1o/
CATEGORIES:Eventos
END:VEVENT
BEGIN:VEVENT
DTSTART;TZID=UTC:20250925T183000
DTEND;TZID=UTC:20250925T193000
DTSTAMP:20260424T221245
CREATED:20250918T102659Z
LAST-MODIFIED:20250918T102701Z
UID:5484-1758825000-1758828600@parroquiatorrepacheco.es
SUMMARY:Reunión acompañantes Infancia 1º
DESCRIPTION:
URL:https://parroquiatorrepacheco.es/eventos/reunion-acompanantes-infancia-1o/
CATEGORIES:Eventos
END:VEVENT
BEGIN:VEVENT
DTSTART;TZID=UTC:20251017T193000
DTEND;TZID=UTC:20251017T203000
DTSTAMP:20260424T221245
CREATED:20250918T103234Z
LAST-MODIFIED:20250918T103443Z
UID:5490-1760729400-1760733000@parroquiatorrepacheco.es
SUMMARY:Catequesis Jóvenes 1º
DESCRIPTION:
URL:https://parroquiatorrepacheco.es/eventos/catequesis-jovenes-1o/
CATEGORIES:Eventos
END:VEVENT
BEGIN:VEVENT
DTSTART;TZID=UTC:20251017T203000
DTEND;TZID=UTC:20251017T213000
DTSTAMP:20260424T221245
CREATED:20250918T103610Z
LAST-MODIFIED:20250918T103613Z
UID:5493-1760733000-1760736600@parroquiatorrepacheco.es
SUMMARY:Catequesis Jóvenes 2º-3º
DESCRIPTION:
URL:https://parroquiatorrepacheco.es/eventos/catequesis-jovenes-2o-3o/
CATEGORIES:Eventos
END:VEVENT
BEGIN:VEVENT
DTSTART;TZID=UTC:20250923T173000
DTEND;TZID=UTC:20250923T183000
DTSTAMP:20260424T221245
CREATED:20250918T102153Z
LAST-MODIFIED:20250918T102155Z
UID:5478-1758648600-1758652200@parroquiatorrepacheco.es
SUMMARY:Catequesis infancia 2º
DESCRIPTION:
URL:https://parroquiatorrepacheco.es/eventos/catequesis-infancia-2o/
CATEGORIES:Eventos
END:VEVENT
BEGIN:VEVENT
DTSTART;TZID=UTC:20250923T183000
DTEND;TZID=UTC:20250923T193000
DTSTAMP:20260424T221245
CREATED:20250918T102928Z
LAST-MODIFIED:20250918T102930Z
UID:5487-1758652200-1758655800@parroquiatorrepacheco.es
SUMMARY:Reunión acompañantes infancia 2º
DESCRIPTION:
URL:https://parroquiatorrepacheco.es/eventos/reunion-acompanantes-infancia-2o/
CATEGORIES:Eventos
END:VEVENT
BEGIN:VEVENT
DTSTART;TZID=UTC:20250925T173000
DTEND;TZID=UTC:20250925T183000
DTSTAMP:20260424T221245
CREATED:20250918T102051Z
LAST-MODIFIED:20250918T102053Z
UID:5475-1758821400-1758825000@parroquiatorrepacheco.es
SUMMARY:Catequesis de infancia 1º
DESCRIPTION:
URL:https://parroquiatorrepacheco.es/eventos/catequesis-de-infancia-1o/
CATEGORIES:Eventos
END:VEVENT
BEGIN:VEVENT
DTSTART;TZID=UTC:20250925T183000
DTEND;TZID=UTC:20250925T193000
DTSTAMP:20260424T221245
CREATED:20250918T102659Z
LAST-MODIFIED:20250918T102701Z
UID:5484-1758825000-1758828600@parroquiatorrepacheco.es
SUMMARY:Reunión acompañantes Infancia 1º
DESCRIPTION:
URL:https://parroquiatorrepacheco.es/eventos/reunion-acompanantes-infancia-1o/
CATEGORIES:Eventos
END:VEVENT
BEGIN:VEVENT
DTSTART;TZID=UTC:20251017T193000
DTEND;TZID=UTC:20251017T203000
DTSTAMP:20260424T221245
CREATED:20250918T103234Z
LAST-MODIFIED:20250918T103443Z
UID:5490-1760729400-1760733000@parroquiatorrepacheco.es
SUMMARY:Catequesis Jóvenes 1º
DESCRIPTION:
URL:https://parroquiatorrepacheco.es/eventos/catequesis-jovenes-1o/
CATEGORIES:Eventos
END:VEVENT
BEGIN:VEVENT
DTSTART;TZID=UTC:20251017T203000
DTEND;TZID=UTC:20251017T213000
DTSTAMP:20260424T221245
CREATED:20250918T103610Z
LAST-MODIFIED:20250918T103613Z
UID:5493-1760733000-1760736600@parroquiatorrepacheco.es
SUMMARY:Catequesis Jóvenes 2º-3º
DESCRIPTION:
URL:https://parroquiatorrepacheco.es/eventos/catequesis-jovenes-2o-3o/
CATEGORIES:Eventos
END:VEVENT
BEGIN:VEVENT
DTSTART;TZID=UTC:20250913T180000
DTEND;TZID=UTC:20250913T183000
DTSTAMP:20260424T221245
CREATED:20250918T112357Z
LAST-MODIFIED:20250918T112359Z
UID:5539-1757786400-1757788200@parroquiatorrepacheco.es
SUMMARY:Celebración de Bautizos
DESCRIPTION:
URL:https://parroquiatorrepacheco.es/eventos/celebracion-de-bautizos-3/
CATEGORIES:Eventos
END:VEVENT
BEGIN:VEVENT
DTSTART;TZID=UTC:20250914T130000
DTEND;TZID=UTC:20250914T133000
DTSTAMP:20260424T221245
CREATED:20250918T112211Z
LAST-MODIFIED:20250918T112213Z
UID:5533-1757854800-1757856600@parroquiatorrepacheco.es
SUMMARY:Celebración de bautizos
DESCRIPTION:
URL:https://parroquiatorrepacheco.es/eventos/celebracion-de-bautizos/
CATEGORIES:Eventos
END:VEVENT
BEGIN:VEVENT
DTSTART;TZID=UTC:20251014T100000
DTEND;TZID=UTC:20251014T110000
DTSTAMP:20260424T221245
CREATED:20250918T101208Z
LAST-MODIFIED:20250918T101824Z
UID:5472-1760436000-1760439600@parroquiatorrepacheco.es
SUMMARY:Reunión coordinación Infancia
DESCRIPTION:
URL:https://parroquiatorrepacheco.es/eventos/reunion-coordinacion-infancia-3/
CATEGORIES:Eventos
END:VEVENT
BEGIN:VEVENT
DTSTART;TZID=UTC:20250923T173000
DTEND;TZID=UTC:20250923T183000
DTSTAMP:20260424T221245
CREATED:20250918T102153Z
LAST-MODIFIED:20250918T102155Z
UID:5478-1758648600-1758652200@parroquiatorrepacheco.es
SUMMARY:Catequesis infancia 2º
DESCRIPTION:
URL:https://parroquiatorrepacheco.es/eventos/catequesis-infancia-2o/
CATEGORIES:Eventos
END:VEVENT
BEGIN:VEVENT
DTSTART;TZID=UTC:20250923T183000
DTEND;TZID=UTC:20250923T193000
DTSTAMP:20260424T221245
CREATED:20250918T102928Z
LAST-MODIFIED:20250918T102930Z
UID:5487-1758652200-1758655800@parroquiatorrepacheco.es
SUMMARY:Reunión acompañantes infancia 2º
DESCRIPTION:
URL:https://parroquiatorrepacheco.es/eventos/reunion-acompanantes-infancia-2o/
CATEGORIES:Eventos
END:VEVENT
BEGIN:VEVENT
DTSTART;TZID=UTC:20250910T210000
DTEND;TZID=UTC:20250910T220000
DTSTAMP:20260424T221245
CREATED:20250918T112456Z
LAST-MODIFIED:20250918T112458Z
UID:5542-1757538000-1757541600@parroquiatorrepacheco.es
SUMMARY:Catequesis Prebautismal
DESCRIPTION:
URL:https://parroquiatorrepacheco.es/eventos/catequesis-prebautismal/
CATEGORIES:Eventos
END:VEVENT
BEGIN:VEVENT
DTSTART;TZID=UTC:20250925T173000
DTEND;TZID=UTC:20250925T183000
DTSTAMP:20260424T221245
CREATED:20250918T102051Z
LAST-MODIFIED:20250918T102053Z
UID:5475-1758821400-1758825000@parroquiatorrepacheco.es
SUMMARY:Catequesis de infancia 1º
DESCRIPTION:
URL:https://parroquiatorrepacheco.es/eventos/catequesis-de-infancia-1o/
CATEGORIES:Eventos
END:VEVENT
BEGIN:VEVENT
DTSTART;TZID=UTC:20250925T183000
DTEND;TZID=UTC:20250925T193000
DTSTAMP:20260424T221245
CREATED:20250918T102659Z
LAST-MODIFIED:20250918T102701Z
UID:5484-1758825000-1758828600@parroquiatorrepacheco.es
SUMMARY:Reunión acompañantes Infancia 1º
DESCRIPTION:
URL:https://parroquiatorrepacheco.es/eventos/reunion-acompanantes-infancia-1o/
CATEGORIES:Eventos
END:VEVENT
BEGIN:VEVENT
DTSTART;TZID=UTC:20251017T193000
DTEND;TZID=UTC:20251017T203000
DTSTAMP:20260424T221245
CREATED:20250918T103234Z
LAST-MODIFIED:20250918T103443Z
UID:5490-1760729400-1760733000@parroquiatorrepacheco.es
SUMMARY:Catequesis Jóvenes 1º
DESCRIPTION:
URL:https://parroquiatorrepacheco.es/eventos/catequesis-jovenes-1o/
CATEGORIES:Eventos
END:VEVENT
BEGIN:VEVENT
DTSTART;TZID=UTC:20251017T203000
DTEND;TZID=UTC:20251017T213000
DTSTAMP:20260424T221245
CREATED:20250918T103610Z
LAST-MODIFIED:20250918T103613Z
UID:5493-1760733000-1760736600@parroquiatorrepacheco.es
SUMMARY:Catequesis Jóvenes 2º-3º
DESCRIPTION:
URL:https://parroquiatorrepacheco.es/eventos/catequesis-jovenes-2o-3o/
CATEGORIES:Eventos
END:VEVENT
BEGIN:VEVENT
DTSTART;TZID=UTC:20260117T093000
DTEND;TZID=UTC:20260117T130000
DTSTAMP:20260424T221245
CREATED:20251207T092859Z
LAST-MODIFIED:20251207T094243Z
UID:5851-1768642200-1768654800@parroquiatorrepacheco.es
SUMMARY:Escuela de discípulos misioneros
DESCRIPTION:La escuela de discípulos misioneros responde al discernimiento comunitario que nos ha llevado a ver la necesidad de seguir caminando juntos hacia una renovación pastoral que permita ser\, cada vez más\, una parroquia misionera\, que pone el anuncio explícito del Evangelio en el centro de su actividad pastoral\, acogiendo y acompañando a las personas que viven el Encuentro con Cristo y abriendo procesos comunitarios que nos permitan construir juntos el Reino de Dios. \n\n\n\nEntendemos que una de las claves para conseguir ponernos en camino de conversión pastoral\, es acompañarnos en un proceso de conversión personal\, que pasa por revivir nuestro encuentro personal con Cristo\, entender nuestra vida de fe como un proceso discipular para toda la vida\, donde formarnos y compartir juntos la fe\, pero también adquiriendo las habilidades necesarias para liderar procesos de cambio que nos ayuden a llegar a todos aquellos que\, por distintos motivos\, viven indiferentes a la fe. \n\n\n\nPara iniciar este proceso de formación OFRECEMOS ESTA ESCUELA. \n\n\n\n\nSi sientes ese fuego del Espíritu en tu corazón y eres consciente de la llamada que el Señor te está haciendo para “dar gratis lo que has recibido” (Mt 10\,8)… ESTA ESCUELA ES PARA TI\n\n\n\nSi sientes la necesidad de anunciarlo a los que no lo conocen. ESTA ESCUELA ES PARA TI\n\n\n\nSi quieres vivir una experiencia de conversión personal y desde ella ayudar en la conversión de nuestra comunidad parroquial. ESTA ESCUELA ES PARA TI.\n\n\n\nSi no te muestras indiferente ante el sufrimiento que viven muchos hermanos por no conocer a Dios y sientes la urgencia de ayudarles a encontrar sentido\, felicidad\, verdad. ESTA ESCUELA ES PARA TI\n\n\n\nSi crees\, con firmeza\, que Dios es el único que puede ayudarnos a construir un mundo mejor. ESTA ESCUELA ES PARA TI.\n\n\n\nSi ves las carencias de nuestra parroquia y a la vez sueñas con que fuese de otra manera. ESTA ESCUELA ES PARA TI.\n\n\n\n\n\n\n\n\nTEMARIO: \n\n\n\n\nVolver al corazón del Evangelio. El encuentro con Cristo vivo.\n\n\n\nDe una Iglesia de mantenimiento a una pastoral misionera.\n\n\n\nIglesia sinodal. Caminar juntos\n\n\n\nEl arte de anunciar. El Primer Anuncio y la comunicación\n\n\n\nComunidad viva. Espiritualidad de la comunión y vida fraterna\n\n\n\nLiderazgo cristiano y trabajo en equipo\n\n\n\nParroquia en salida. Planificación y proyectos misioneros\n\n\n\nEspiritualidad del sembrador. Perseverar con esperanza\n\n\n\n\nINSCRIPCIÓN PARA LA ESCUELA \n\n\nPor favor\, activa JavaScript en tu navegador para completar este formulario.Nombre *NombreApellidosDiseñoTeléfonoEmail *¿Acompañas algún grupo en tu parroquia? *InfanciaJóvenesAdultos¿Estás en algún Equipo de Vida?\n				\n					\n					\n				\n				\n				SI\n			\n				\n					\n					\n				\n				\n				NO\n			Edad *Participas en alguna pastoral de la parroquia\n				\n					\n					\n				\n				\n				SI\n			\n				\n					\n					\n				\n				\n				NO\n			Si participas ¿en qué?¿Qué te mueve para querer participar? (desarrolla tu respuesta)Enviar
URL:https://parroquiatorrepacheco.es/eventos/escuela-de-discipulos-misioneros/
CATEGORIES:Destacados,Eventos
ATTACH;FMTTYPE=image/png:https://parroquiatorrepacheco.es/wp-content/uploads/2025/12/Imagen-web.png
END:VEVENT
BEGIN:VEVENT
DTSTART;TZID=UTC:20250920T210000
DTEND;TZID=UTC:20250920T223000
DTSTAMP:20260424T221245
CREATED:20250918T112841Z
LAST-MODIFIED:20250918T112843Z
UID:5548-1758402000-1758407400@parroquiatorrepacheco.es
SUMMARY:Encuentros Proyecto Amor Conyugal
DESCRIPTION:
URL:https://parroquiatorrepacheco.es/eventos/encuentros-proyecto-amor-conyugal/
CATEGORIES:Destacados,Eventos
ATTACH;FMTTYPE=image/jpeg:https://parroquiatorrepacheco.es/wp-content/uploads/2022/12/Proyecto-AC.jpg
END:VEVENT
BEGIN:VEVENT
DTSTART;TZID=UTC:20250923T173000
DTEND;TZID=UTC:20250923T183000
DTSTAMP:20260424T221245
CREATED:20250918T102153Z
LAST-MODIFIED:20250918T102155Z
UID:5478-1758648600-1758652200@parroquiatorrepacheco.es
SUMMARY:Catequesis infancia 2º
DESCRIPTION:
URL:https://parroquiatorrepacheco.es/eventos/catequesis-infancia-2o/
CATEGORIES:Eventos
END:VEVENT
BEGIN:VEVENT
DTSTART;TZID=UTC:20250923T183000
DTEND;TZID=UTC:20250923T193000
DTSTAMP:20260424T221245
CREATED:20250918T102928Z
LAST-MODIFIED:20250918T102930Z
UID:5487-1758652200-1758655800@parroquiatorrepacheco.es
SUMMARY:Reunión acompañantes infancia 2º
DESCRIPTION:
URL:https://parroquiatorrepacheco.es/eventos/reunion-acompanantes-infancia-2o/
CATEGORIES:Eventos
END:VEVENT
BEGIN:VEVENT
DTSTART;TZID=UTC:20251216T220000
DTEND;TZID=UTC:20251216T230000
DTSTAMP:20260424T221245
CREATED:20251105T170737Z
LAST-MODIFIED:20251215T130739Z
UID:5716-1765922400-1765926000@parroquiatorrepacheco.es
SUMMARY:Encuentros Tabor. Señor\, ten piedad
DESCRIPTION:El Señor te invita a subir\, de nuevo\, con Él al Tabor. Es el lugar de la misericordia\, donde se muestra tal cual es y donde quiere también transfigurar tu vida\, llenarla de luz\, de vida\, de esperanza. \n\n\n\n \n\n\n\n¿Aceptas su invitación?
URL:https://parroquiatorrepacheco.es/eventos/encuentros-tabor-2/
CATEGORIES:Destacados,Eventos
ATTACH;FMTTYPE=image/jpeg:https://parroquiatorrepacheco.es/wp-content/uploads/2025/11/251216-Tabor-de-intercesion.jpg
END:VEVENT
BEGIN:VEVENT
DTSTART;TZID=UTC:20251015T163000
DTEND;TZID=UTC:20251015T173000
DTSTAMP:20260424T221245
CREATED:20250918T102355Z
LAST-MODIFIED:20250918T102357Z
UID:5481-1760545800-1760549400@parroquiatorrepacheco.es
SUMMARY:Coordinadora Sector de infancia
DESCRIPTION:
URL:https://parroquiatorrepacheco.es/eventos/coordinadora-sector-de-infancia/
CATEGORIES:Eventos
END:VEVENT
BEGIN:VEVENT
DTSTART;TZID=UTC:20250925T173000
DTEND;TZID=UTC:20250925T183000
DTSTAMP:20260424T221245
CREATED:20250918T102051Z
LAST-MODIFIED:20250918T102053Z
UID:5475-1758821400-1758825000@parroquiatorrepacheco.es
SUMMARY:Catequesis de infancia 1º
DESCRIPTION:
URL:https://parroquiatorrepacheco.es/eventos/catequesis-de-infancia-1o/
CATEGORIES:Eventos
END:VEVENT
BEGIN:VEVENT
DTSTART;TZID=UTC:20250925T183000
DTEND;TZID=UTC:20250925T193000
DTSTAMP:20260424T221245
CREATED:20250918T102659Z
LAST-MODIFIED:20250918T102701Z
UID:5484-1758825000-1758828600@parroquiatorrepacheco.es
SUMMARY:Reunión acompañantes Infancia 1º
DESCRIPTION:
URL:https://parroquiatorrepacheco.es/eventos/reunion-acompanantes-infancia-1o/
CATEGORIES:Eventos
END:VEVENT
BEGIN:VEVENT
DTSTART;TZID=UTC:20260122T203000
DTEND;TZID=UTC:20260122T213000
DTSTAMP:20260424T221245
CREATED:20251130T105400Z
LAST-MODIFIED:20251209T215421Z
UID:5834-1769113800-1769117400@parroquiatorrepacheco.es
SUMMARY:Encuentros para padres
DESCRIPTION:¿Por qué no vivir la comunión de tu hijo/a como una oportunidad para ti?  \n\n\n\n¿Por qué no darme un espacio para vivir mi fe? \n\n\n\nHay acontecimientos en la vida ante los cuales se nos abren dos caminos: verlos pasar sin más o vivirlos sacando lo bueno que nos pueden ofrecer o como una oportunidad para encontrar que algo nuevo puede comenzar a brotar. \n\n\n\nEstos encuentros\, que ofrecemos\, pretende servir de acompañamiento para todos aquellos que busquen y sientan el deseo de encontrar. Encuentro para dialogar\, compartir\, aprender y crecer en fe\, esperanza y caridad. \n\n\n\nEstos son los encuentros. Destacaremos el que corresponda al día anunciado. \n\n\n\nENCUENTRO 1: Dónde encontrar la felicidad. Jueves 22 de enero\, a las 20\,30h \n\n\n\nENCUENTRO 2: Bartimeo ¿Qué quieres que haga por ti? Jueves 29 de febrero\, a las 20\,30h \n\n\n\nENCUENTRO 3: Zaqueo. Hoy me quedo en tu casa. Jueves 12 de marzo\, a las 20\,30h \n\n\n\nENCUENTRO 4: La Samaritana. Yo tampoco te condeno. Jueves 16 de abril\, a las 20\,30h \n\n\n\nENCUENTRO 5: Jesús el Buen Pastor. Jueves 21 de mayo\, a las 21h \n\n\n\nENCUENTRO 6: La tempestad calmada. Jueves 18 de junio\, a las 21h. \n\n\n\nENCUENTRO 7: La Alianza. Por fechar… \n\n\n\n \n\n\nPor favor\, activa JavaScript en tu navegador para completar este formulario.Nombre *NombreApellidosDiseñoTeléfonoEmail *Edad *¿Estás confirmado?\n				\n					\n					\n				\n				\n				SI\n			\n				\n					\n					\n				\n				\n				NO\n			Enviar
URL:https://parroquiatorrepacheco.es/eventos/encuentros-para-padres/
CATEGORIES:Destacados,Eventos
ATTACH;FMTTYPE=image/jpeg:https://parroquiatorrepacheco.es/wp-content/uploads/2025/11/251130-Imagen-portada.jpg
END:VEVENT
BEGIN:VEVENT
DTSTART;TZID=UTC:20251017T193000
DTEND;TZID=UTC:20251017T203000
DTSTAMP:20260424T221245
CREATED:20250918T103234Z
LAST-MODIFIED:20250918T103443Z
UID:5490-1760729400-1760733000@parroquiatorrepacheco.es
SUMMARY:Catequesis Jóvenes 1º
DESCRIPTION:
URL:https://parroquiatorrepacheco.es/eventos/catequesis-jovenes-1o/
CATEGORIES:Eventos
END:VEVENT
END:VCALENDAR